BEGIN:VCALENDAR
VERSION:2.0
PRODID:-//Sew Creative Toronto - ECPv6.15.20//NONSGML v1.0//EN
CALSCALE:GREGORIAN
METHOD:PUBLISH
X-ORIGINAL-URL:https://www.sewcreativetoronto.com
X-WR-CALDESC:Events for Sew Creative Toronto
REFRESH-INTERVAL;VALUE=DURATION:PT1H
X-Robots-Tag:noindex
X-PUBLISHED-TTL:PT1H
BEGIN:VTIMEZONE
TZID:America/Toronto
BEGIN:DAYLIGHT
TZOFFSETFROM:-0500
TZOFFSETTO:-0400
TZNAME:EDT
DTSTART:20220313T070000
END:DAYLIGHT
BEGIN:STANDARD
TZOFFSETFROM:-0400
TZOFFSETTO:-0500
TZNAME:EST
DTSTART:20221106T060000
END:STANDARD
BEGIN:DAYLIGHT
TZOFFSETFROM:-0500
TZOFFSETTO:-0400
TZNAME:EDT
DTSTART:20230312T070000
END:DAYLIGHT
BEGIN:STANDARD
TZOFFSETFROM:-0400
TZOFFSETTO:-0500
TZNAME:EST
DTSTART:20231105T060000
END:STANDARD
BEGIN:DAYLIGHT
TZOFFSETFROM:-0500
TZOFFSETTO:-0400
TZNAME:EDT
DTSTART:20240310T070000
END:DAYLIGHT
BEGIN:STANDARD
TZOFFSETFROM:-0400
TZOFFSETTO:-0500
TZNAME:EST
DTSTART:20241103T060000
END:STANDARD
BEGIN:DAYLIGHT
TZOFFSETFROM:-0500
TZOFFSETTO:-0400
TZNAME:EDT
DTSTART:20250309T070000
END:DAYLIGHT
BEGIN:STANDARD
TZOFFSETFROM:-0400
TZOFFSETTO:-0500
TZNAME:EST
DTSTART:20251102T060000
END:STANDARD
BEGIN:DAYLIGHT
TZOFFSETFROM:-0500
TZOFFSETTO:-0400
TZNAME:EDT
DTSTART:20260308T070000
END:DAYLIGHT
BEGIN:STANDARD
TZOFFSETFROM:-0400
TZOFFSETTO:-0500
TZNAME:EST
DTSTART:20261101T060000
END:STANDARD
END:VTIMEZONE
BEGIN:VTIMEZONE
TZID:America/New_York
BEGIN:DAYLIGHT
TZOFFSETFROM:-0500
TZOFFSETTO:-0400
TZNAME:EDT
DTSTART:20170312T070000
END:DAYLIGHT
BEGIN:STANDARD
TZOFFSETFROM:-0400
TZOFFSETTO:-0500
TZNAME:EST
DTSTART:20171105T060000
END:STANDARD
BEGIN:DAYLIGHT
TZOFFSETFROM:-0500
TZOFFSETTO:-0400
TZNAME:EDT
DTSTART:20180311T070000
END:DAYLIGHT
BEGIN:STANDARD
TZOFFSETFROM:-0400
TZOFFSETTO:-0500
TZNAME:EST
DTSTART:20181104T060000
END:STANDARD
BEGIN:DAYLIGHT
TZOFFSETFROM:-0500
TZOFFSETTO:-0400
TZNAME:EDT
DTSTART:20190310T070000
END:DAYLIGHT
BEGIN:STANDARD
TZOFFSETFROM:-0400
TZOFFSETTO:-0500
TZNAME:EST
DTSTART:20191103T060000
END:STANDARD
BEGIN:DAYLIGHT
TZOFFSETFROM:-0500
TZOFFSETTO:-0400
TZNAME:EDT
DTSTART:20200308T070000
END:DAYLIGHT
BEGIN:STANDARD
TZOFFSETFROM:-0400
TZOFFSETTO:-0500
TZNAME:EST
DTSTART:20201101T060000
END:STANDARD
BEGIN:DAYLIGHT
TZOFFSETFROM:-0500
TZOFFSETTO:-0400
TZNAME:EDT
DTSTART:20210314T070000
END:DAYLIGHT
BEGIN:STANDARD
TZOFFSETFROM:-0400
TZOFFSETTO:-0500
TZNAME:EST
DTSTART:20211107T060000
END:STANDARD
END:VTIMEZONE
BEGIN:VEVENT
DTSTART;TZID=America/Toronto:20251229T100000
DTEND;TZID=America/Toronto:20251230T160000
DTSTAMP:20260423T082646
CREATED:20250904T165020Z
LAST-MODIFIED:20250904T173325Z
UID:6931-1767002400-1767110400@www.sewcreativetoronto.com
SUMMARY:Winter Camp December 29-30\, 2025
DESCRIPTION:After reserving your spot please fill out the online contact form.\n\nFILL OUT THE CONTACT FORM  \n  \n\nPillow Pets\nIn this 2-day camp we will design and sew pillow pets: They can be cats\, dogs\, bears\, etc – each will be a unique character!\nOur pillow pets measure approximately 75x50cm and consist of a removable cover (the pillow pet) and a standard size pillow as an insert. \n  \nThe camp is suitable for beginners and those with sewing experience. Fabric choices may vary from those pictured.\n  \nDate: December 29-30\, 2025\nTime: 10.00am-4.00pm\nCost: $235.00 (+HST)\, project included.\nAges 7-16\nMax. 6 students in class\nShare this:
URL:https://www.sewcreativetoronto.com/event/winter-camp-december-29-30-2025/
LOCATION:Sew Creative Toronto\, 50 Millsborough Crescent\, Etobicoke\, Ontario\, M9C 5E8\, Canada
CATEGORIES:Winter Camps
ATTACH;FMTTYPE=image/jpeg:https://www.sewcreativetoronto.com/wp-content/uploads/2018/01/Sewing-pillow-pet-2.jpg
ORGANIZER;CN="Priska Mitchell":MAILTO:priska@sewcreativetoronto.com
END:VEVENT
BEGIN:VEVENT
DTSTART;TZID=America/Toronto:20250102T100000
DTEND;TZID=America/Toronto:20250103T160000
DTSTAMP:20260423T082646
CREATED:20240923T171159Z
LAST-MODIFIED:20241105T170118Z
UID:6059-1735812000-1735920000@www.sewcreativetoronto.com
SUMMARY:Winter Camp Jan. 2-3\, 2025
DESCRIPTION:CAMP FULL If you would like to be added to a waiting list\, please contact us.\nAfter reserving your spot please fill out the online contact form.\n\nFILL OUT THE CONTACT FORM  \n  \n\nPillow Pets\n  \nIn this 2-day camp we will design and sew pillow pets: They can be cats\, dogs\, bears\, chickens\, etc – each will be a unique character!\nOur pillow pets measure approximately 75x50cm and consist of a removable cover (the pillow pet) and a standard size pillow as an insert. \nThe camp is suitable for beginners and those with sewing experience. Fabric choices may vary from those pictured.\n  \nDate: January 2-3\, 2025\nTime: 10.00am-4.00pm\, extended care available\nCost: $220.00 (+HST)\, project included.\nAges 7-16\nMax. 6 students in class\nShare this:
URL:https://www.sewcreativetoronto.com/event/winter-camp-jan-2-3-2025/
LOCATION:Sew Creative Toronto\, 50 Millsborough Crescent\, Etobicoke\, Ontario\, M9C 5E8\, Canada
CATEGORIES:Winter Camps
ATTACH;FMTTYPE=image/jpeg:https://www.sewcreativetoronto.com/wp-content/uploads/2018/01/Sewing-pillow-pet-2.jpg
ORGANIZER;CN="Priska Mitchell":MAILTO:priska@sewcreativetoronto.com
END:VEVENT
BEGIN:VEVENT
DTSTART;TZID=America/Toronto:20240103T100000
DTEND;TZID=America/Toronto:20240104T150000
DTSTAMP:20260423T082646
CREATED:20231011T205707Z
LAST-MODIFIED:20231011T210130Z
UID:5583-1704276000-1704380400@www.sewcreativetoronto.com
SUMMARY:2-Day Winter Camp January 3-4\, 2024
DESCRIPTION:BOOK BEFORE NOVEMBER 1\, 2023 TO RECEIVE THE EARLY BIRD RATE OF $196.00!\nAfter reserving your spot please fill out the online registration form\nFILL OUT THE REGISTRATION FORM  \n  \nMake winter days delightful with sewing warm\, soft and fuzzy fleece projects during this 2-day camp!\nThere is something for everyone: Beginners will learn how to operate a sewing machine and then can choose from sewing a hat (variety of styles)\, scarf or stuffed snowmen. Sewers with experience can also choose from sewing elf slippers\, mittens or animal hats.\n\n  Winter fashion: Beanie hats\, scarves and mittens – there are a variety of styles available and they look different every time depending on the kind of fleece you choose!\n\n\nSnowmen: Bring winter inside – these adorable stuffed snowmen don’t melt and aren’t cold! You can sew a hat\, scarf and even a vest for them.\n  \n\n\n  Elf slippers: These slippers will keep your feet toasty warm\, and will probably earn you lots of chuckles from your friends when they see you wear them!\nAnimal hats: These hats can be sewn in a variety of styles – make it your own character!  \n  \n\nJanuary 3-4\, 2024\n10.00 am – 3.00 pm\nExtended care available\nFee: $206.00 (+HST)\nEARLY BIRD RATE (until November 1\, 2023): $196.00 (+HST)\nAll projects are included in the price.\nMaximum 6 children per camp.\nThis camp is also available December 28-29\, 2023\nShare this:
URL:https://www.sewcreativetoronto.com/event/2-day-winter-camp-january-3-4-2024/
LOCATION:Sew Creative Toronto\, 50 Millsborough Crescent\, Etobicoke\, Ontario\, M9C 5E8\, Canada
CATEGORIES:Winter Camps
ATTACH;FMTTYPE=image/jpeg:https://www.sewcreativetoronto.com/wp-content/uploads/2018/10/IMG_2513-e1696952380519.jpg
ORGANIZER;CN="Priska Mitchell":MAILTO:priska@sewcreativetoronto.com
END:VEVENT
BEGIN:VEVENT
DTSTART;TZID=America/Toronto:20231228T100000
DTEND;TZID=America/Toronto:20231229T150000
DTSTAMP:20260423T082646
CREATED:20231011T204542Z
LAST-MODIFIED:20231227T173018Z
UID:5575-1703757600-1703862000@www.sewcreativetoronto.com
SUMMARY:2-Day Winter Camp December 28-29\, 2023
DESCRIPTION:BOOK BEFORE NOVEMBER 1\, 2023 TO RECEIVE THE EARLY BIRD RATE OF $196.00!\nAfter reserving your spot please fill out the online registration form\nFILL OUT THE REGISTRATION FORM  \n  \nMake winter days delightful with sewing warm\, soft and fuzzy fleece projects during this 2-day camp!\nThere is something for everyone: Beginners will learn how to operate a sewing machine and then can choose from sewing a hat (variety of styles)\, scarf or stuffed snowmen. Sewers with experience can also choose from sewing elf slippers\, mittens or animal hats.\n\n  Winter fashion: Beanie hats\, scarves and mittens – there are a variety of styles available and they look different every time depending on the kind of fleece you choose!\n\n\nSnowmen: Bring winter inside – these adorable stuffed snowmen don’t melt and aren’t cold! You can sew a hat\, scarf and even a vest for them.\n  \n\n\n  Elf slippers: These slippers will keep your feet toasty warm\, and will probably earn you lots of chuckles from your friends when they see you wear them!\nAnimal hats: These hats can be sewn in a variety of styles – make it your own character!  \n  \n\nDecember 28-29\, 2023\n10.00 am – 3.00 pm\nExtended care available\nFee: $206.00 (+HST)\nEARLY BIRD RATE (until November 1\, 2023): $196.00 (+HST)\nAll projects are included in the price.\nMaximum 6 children per camp.\nThis camp is also available January 3-4\, 2024\nShare this:
URL:https://www.sewcreativetoronto.com/event/2-day-winter-camp-december-28-29-2023/
LOCATION:Sew Creative Toronto\, 50 Millsborough Crescent\, Etobicoke\, Ontario\, M9C 5E8\, Canada
CATEGORIES:Winter Camps
ATTACH;FMTTYPE=image/jpeg:https://www.sewcreativetoronto.com/wp-content/uploads/2019/09/Elf-slippers-e1696951954437.jpg
ORGANIZER;CN="Priska Mitchell":MAILTO:priska@sewcreativetoronto.com
END:VEVENT
BEGIN:VEVENT
DTSTART;TZID=America/Toronto:20230104T100000
DTEND;TZID=America/Toronto:20230105T150000
DTSTAMP:20260423T082646
CREATED:20221021T161808Z
LAST-MODIFIED:20221024T200132Z
UID:5124-1672826400-1672930800@www.sewcreativetoronto.com
SUMMARY:2-Day Winter Camp January 4-5\, 2023
DESCRIPTION:After reserving your spot please fill out the online registration form\nFILL OUT THE REGISTRATION FORM  \nPyjama Pants For Me And My Pal\nIn this 2-day camp you will learn how to sew a pair of pyjama pants for yourself\, and you can sew a matching pair for your stuffy or doll.\nIf you just like to make pyjamas for yourself you can choose to sew a 9-patch pillow instead of the matching pair for your pal.\nBeginners are welcome!\nAges: 7+ years\n\nDate: January 4-5\, 2023\nTime: 10.00am-3.00pm\, extended care available\nCost: $184.00 (+HST)\, project included\nBook a sibling and receive a 5% sibling discount for the second child!\nThis camp is also available January 2-3\, 2023\nShare this:
URL:https://www.sewcreativetoronto.com/event/2-day-winter-camp-january-4-5-2023/
LOCATION:Sew Creative Toronto\, 50 Millsborough Crescent\, Etobicoke\, Ontario\, M9C 5E8\, Canada
CATEGORIES:Winter Camps
ATTACH;FMTTYPE=image/jpeg:https://www.sewcreativetoronto.com/wp-content/uploads/2018/11/Pyjama-pants-e1607736801840.jpg
ORGANIZER;CN="Priska Mitchell":MAILTO:priska@sewcreativetoronto.com
END:VEVENT
BEGIN:VEVENT
DTSTART;TZID=America/Toronto:20230102T100000
DTEND;TZID=America/Toronto:20230103T150000
DTSTAMP:20260423T082646
CREATED:20221021T161229Z
LAST-MODIFIED:20221230T015145Z
UID:5122-1672653600-1672758000@www.sewcreativetoronto.com
SUMMARY:2-Day Winter Camp January 2-3\, 2023
DESCRIPTION:After reserving your spot please fill out the online registration form\nFILL OUT THE REGISTRATION FORM  \nPyjama Pants For Me And My Pal\nIn this 2-day camp you will learn how to sew a pair of pyjama pants for yourself\, and you can sew a matching pair for your stuffy or doll.\nIf you just like to make pyjamas for yourself you can choose to sew a 9-patch pillow instead of the matching pair for your pal.\nBeginners are welcome!\nAges: 7+ years\n\nDate: January 2-3\, 2023\nTime: 10.00am-3.00pm\, extended care available\nCost: $184.00 (+HST)\, project included\nBook a sibling and receive a 5% sibling discount for the second child!\nThis camp is also available January 4-5\, 2023\nShare this:
URL:https://www.sewcreativetoronto.com/event/2-day-winter-camp-january-2-3-2023/
LOCATION:Sew Creative Toronto\, 50 Millsborough Crescent\, Etobicoke\, Ontario\, M9C 5E8\, Canada
CATEGORIES:Winter Camps
ATTACH;FMTTYPE=image/jpeg:https://www.sewcreativetoronto.com/wp-content/uploads/2018/11/Pyjama-pants-e1607736801840.jpg
ORGANIZER;CN="Priska Mitchell":MAILTO:priska@sewcreativetoronto.com
END:VEVENT
BEGIN:VEVENT
DTSTART;TZID=America/New_York:20200102T100000
DTEND;TZID=America/New_York:20200103T160000
DTSTAMP:20260423T082646
CREATED:20191114T184308Z
LAST-MODIFIED:20191114T184308Z
UID:2421-1577959200-1578067200@www.sewcreativetoronto.com
SUMMARY:Winter Camp January 2-3\, 2020
DESCRIPTION:Make winter days delightful with sewing a warm\, fuzzy fleece project or a beautiful home décor item during our short 2-day camp!\nYou can choose from a variety of projects:\nA cuddly pillow pet (our students’ favourite!): Bring your own idea of what kind of pillow pet you would like to sew – we had anything from bears\, dogs\, cats\, tigers\, rabbits and hamsters to piggies and unicorns!\n\nWinter fashion: Animal hats and mittens – there are a variety of designs available and they look different every time depending on the fleece you choose!\n\n\n\nSnowmen: Bring winter inside – these adorable stuffed snowmen don’t melt and aren’t cold! You can sew a hat\, scarf and even a vest for them.\n  \n\n\nHome Décor: Sew a poinsettia pillow. The flower on this pillow is made of felt and you can choose different colours and choose a matching fabric for the pillow.\n  \n\n\nJanuary 2-3\, 2020\n10.00 am – 4.00 pm\nExtended care available\nFee: $158.00\nEARLY BIRD RATE (until December 1\, 2019): $148.00\nAll projects are included in the price.\nBook a sibling and enjoy a 10% discount for the second child!\nMaximum 6 children per camp.\n  \nAfter reserving your spot please fill out the online registration form\nFILL OUT THE REGISTRATION FORM  \nShare this:
URL:https://www.sewcreativetoronto.com/event/winter-camp-january-2-3-2020/
LOCATION:Sew Creative Toronto\, 50 Millsborough Crescent\, Etobicoke\, Ontario\, M9C 5E8\, Canada
CATEGORIES:Winter Camps
ATTACH;FMTTYPE=image/jpeg:https://www.sewcreativetoronto.com/wp-content/uploads/2018/01/Sewing-pillow-pet-2.jpg
ORGANIZER;CN="Priska Mitchell":MAILTO:priska@sewcreativetoronto.com
END:VEVENT
BEGIN:VEVENT
DTSTART;TZID=America/New_York:20181227T100000
DTEND;TZID=America/New_York:20181228T160000
DTSTAMP:20260423T082646
CREATED:20181012T162547Z
LAST-MODIFIED:20181129T165414Z
UID:1366-1545904800-1546012800@www.sewcreativetoronto.com
SUMMARY:Winter Camp December 27-28\, 2018
DESCRIPTION:Make winter days delightful with sewing a warm\, fuzzy fleece project during our short 2-day camp!\nYou can choose from a variety of projects:\nA cuddly pillow pet (our students’ favourite!): Bring your own idea of what kind of pillow pet you would like to sew – we had anything from bears\, dogs\, cats\, tigers\, rabbits and hamsters to piggies and unicorns!\n\nWinter fashion: Animal patterned hats and mittens – there are a variety of designs available and they look different every time depending on the fleece you choose!\n\nSnowmen: Bring winter inside – these adorable stuffed snowmen don’t melt and aren’t cold! You can sew a hat\, scarf and even a vest for them.\n\nHome Décor: Sew a snowflake pillow. These pillows are made of very soft and cuddly fabric. Beginners will make the snowflake with felt\, students with sewing experience can sew the snowflake appliqué with the same style fleece as the pillow itself.\n  \n\n\nDecember 27-28\, 2018\n10.00 am – 4.00 pm\nExtended care available\nFee: $140.00 (+HST)\nEARLY BIRD RATE (until November 30\, 2018): $130.00 (+HST)\nAll projects are included in the price.\nBook a sibling and enjoy a 10% discount for the second child!\nMaximum 6 children per camp.\n  \nAfter reserving your spot please fill out the online registration form\nFILL OUT THE REGISTRATION FORM  \nShare this:
URL:https://www.sewcreativetoronto.com/event/winter-camp/
LOCATION:Sew Creative Toronto\, 50 Millsborough Crescent\, Etobicoke\, Ontario\, M9C 5E8\, Canada
CATEGORIES:Winter Camps
ORGANIZER;CN="Priska Mitchell":MAILTO:priska@sewcreativetoronto.com
END:VEVENT
END:VCALENDAR