BEGIN:VCALENDAR
VERSION:2.0
PRODID:-//Sew Creative Toronto - ECPv6.15.20//NONSGML v1.0//EN
CALSCALE:GREGORIAN
METHOD:PUBLISH
X-ORIGINAL-URL:https://www.sewcreativetoronto.com
X-WR-CALDESC:Events for Sew Creative Toronto
REFRESH-INTERVAL;VALUE=DURATION:PT1H
X-Robots-Tag:noindex
X-PUBLISHED-TTL:PT1H
BEGIN:VTIMEZONE
TZID:America/Toronto
BEGIN:DAYLIGHT
TZOFFSETFROM:-0500
TZOFFSETTO:-0400
TZNAME:EDT
DTSTART:20250309T070000
END:DAYLIGHT
BEGIN:STANDARD
TZOFFSETFROM:-0400
TZOFFSETTO:-0500
TZNAME:EST
DTSTART:20251102T060000
END:STANDARD
BEGIN:DAYLIGHT
TZOFFSETFROM:-0500
TZOFFSETTO:-0400
TZNAME:EDT
DTSTART:20260308T070000
END:DAYLIGHT
BEGIN:STANDARD
TZOFFSETFROM:-0400
TZOFFSETTO:-0500
TZNAME:EST
DTSTART:20261101T060000
END:STANDARD
BEGIN:DAYLIGHT
TZOFFSETFROM:-0500
TZOFFSETTO:-0400
TZNAME:EDT
DTSTART:20270314T070000
END:DAYLIGHT
BEGIN:STANDARD
TZOFFSETFROM:-0400
TZOFFSETTO:-0500
TZNAME:EST
DTSTART:20271107T060000
END:STANDARD
END:VTIMEZONE
BEGIN:VEVENT
DTSTART;TZID=America/Toronto:20260713T100000
DTEND;TZID=America/Toronto:20260717T160000
DTSTAMP:20260423T030951
CREATED:20260102T230120Z
LAST-MODIFIED:20260115T164154Z
UID:6997-1783936800-1784304000@www.sewcreativetoronto.com
SUMMARY:Summer Sewing Camp July 13 - 17\, 2026
DESCRIPTION:CAMP FULL – If you would like to be added to a waiting list\, please contact us.\nThis camp is also offered:\nAugust 10 – 14\, 2026\nAugust 24 – 28\, 2026\n  \nSummer Sewing Camp July 13 – 17\, 2026\nSummer camps are great opportunities for learning new skills\, having fun doing so and making new friends.\nAll our camps are suitable for both beginners and children/teens with sewing experience. Beginners will choose easy projects\, and campers with sewing experience can choose more advanced projects.\nOur camps have a small group size (maximum 6 children per camp). This allows for individuality and each camper will sew several projects within their skills range. Campers will have lots of fun designing\, cutting\, sewing and embellishing their projects. Campers can even add machine embroidery embellishments to their projects!\n  \nOur campers can choose projects from a large choice of options:\n– home décor and accessories: 9-patch pillows\, faux fur animal pillows\, beach bags\, drawstring backpacks\, pencil cases\, scrunchies\n– fashion: shorts\, peasant blouse\, various styles of skirts\n– quilting projects: rag quilts\, picnic blankets\, tea bag or card holders\n– fun projects such as stuffed dogs or cats\, sock monkeys\, teddies\, rice frogs\, doll’s clothes and fabric flowers\n  \nAges:    7-16 years\nDate:    July 13 – 17\, 2026\nTime:   10.00 am – 4.00 pm\, extended care available (please contact us to arrange)\nFee:      $595.00 (+HST)\nAll projects are included in the price.\n  \nFun with our new shorts!\nThis camp is also offered:\nAugust 10 – 14\, 2026\nAugust 24 – 28\, 2026\nShare this:
URL:https://www.sewcreativetoronto.com/event/summer-sewing-camp-july-13-17-2026/
LOCATION:Sew Creative Toronto\, 50 Millsborough Crescent\, Etobicoke\, Ontario\, M9C 5E8\, Canada
CATEGORIES:Summer Camps
ATTACH;FMTTYPE=image/jpeg:https://www.sewcreativetoronto.com/wp-content/uploads/2026/01/sock-monkeys-Sew-Creative-summer-camp-scaled-e1767395572145.jpg
ORGANIZER;CN="Priska Mitchell":MAILTO:priska@sewcreativetoronto.com
END:VEVENT
BEGIN:VEVENT
DTSTART;TZID=America/Toronto:20260810T100000
DTEND;TZID=America/Toronto:20260814T160000
DTSTAMP:20260423T030951
CREATED:20260102T233817Z
LAST-MODIFIED:20260413T155608Z
UID:7011-1786356000-1786723200@www.sewcreativetoronto.com
SUMMARY:Summer Sewing Camp August 10 - 14\, 2026
DESCRIPTION:CAMP FULL – If you would like to be added to a waiting list\, please contact us.\nAfter reserving your spot please fill out the online registration form:\nFILL OUT THE REGISTRATION FORM  \n  \nSummer Sewing Camp August 10 – 14\, 2026\n\nSummer camps are great opportunities for learning new skills\, having fun doing so and making new friends.\nAll our camps are suitable for both beginners and children/teens with sewing experience. Beginners will choose easy projects\, and campers with sewing experience can choose more advanced projects.\nOur camps have a small group size (maximum 6 children per camp). This allows for individuality and each camper will sew several projects within their skills range. Campers will have lots of fun designing\, cutting\, sewing and embellishing their projects. Campers can even add machine embroidery embellishments to their projects!\n  \nOur campers can choose projects from a large choice of options:\n– home décor and accessories: 9-patch pillows\, faux fur animal pillows\, beach bags\, drawstring backpacks\, pencil cases\, scrunchies\n– fashion: shorts\, peasant blouse\, various styles of skirts\n– quilting projects: rag quilts\, picnic blankets\, tea bag or card holders\n– fun projects such as stuffed dogs or cats\, sock monkeys\, teddies\, rice frogs\, doll’s clothes and fabric flowers\n  \nAges:    7-16 years\nDate:    August 10 – 14\, 2026\nTime:   10.00 am – 4.00 pm\, extended care available (please contact us to arrange)\nFee:      $595.00 (+HST)\nAll projects are included in the price.\n  \nFun with our new shorts!\nThis camp is also offered:\nJuly 13 – 17\, 2026\nAugust 24 – 28\, 2026\nShare this:
URL:https://www.sewcreativetoronto.com/event/summer-sewing-camp-august-10-14-2026/
LOCATION:Sew Creative Toronto\, 50 Millsborough Crescent\, Etobicoke\, Ontario\, M9C 5E8\, Canada
CATEGORIES:Summer Camps
ATTACH;FMTTYPE=image/jpeg:https://www.sewcreativetoronto.com/wp-content/uploads/2026/01/sock-monkeys-Sew-Creative-summer-camp-scaled-e1767395572145.jpg
ORGANIZER;CN="Priska Mitchell":MAILTO:priska@sewcreativetoronto.com
END:VEVENT
BEGIN:VEVENT
DTSTART;TZID=America/Toronto:20260824T100000
DTEND;TZID=America/Toronto:20260828T160000
DTSTAMP:20260423T030951
CREATED:20260102T235511Z
LAST-MODIFIED:20260413T155635Z
UID:7017-1787565600-1787932800@www.sewcreativetoronto.com
SUMMARY:Summer Sewing Camp August 24 - 28\, 2026
DESCRIPTION:CAMP FULL – If you would like to be added to a waiting list\, please contact us.\nAfter reserving your spot please fill out the online registration form:\nFILL OUT THE REGISTRATION FORM  \n  \n\nSummer camps are great opportunities for learning new skills\, having fun doing so and making new friends.\nAll our camps are suitable for both beginners and children/teens with sewing experience. Beginners will choose easy projects\, and campers with sewing experience can choose more advanced projects.\nOur camps have a small group size (maximum 6 children per camp). This allows for individuality and each camper will sew several projects within their skills range. Campers will have lots of fun designing\, cutting\, sewing and embellishing their projects. Campers can even add machine embroidery embellishments to their projects!\n  \nOur campers can choose projects from a large choice of options:\n– home décor and accessories: 9-patch pillows\, faux fur animal pillows\, beach bags\, drawstring backpacks\, pencil cases\, scrunchies\n– fashion: shorts\, peasant blouse\, various styles of skirts\n– quilting projects: rag quilts\, picnic blankets\, tea bag or card holders\n– fun projects such as stuffed dogs or cats\, sock monkeys\, teddies\, rice frogs\, doll’s clothes and fabric flowers\n  \nAges:    7-16 years\nDate:    August 24 -28\, 2026\nTime:   10.00 am – 4.00 pm\, extended care available (please contact us to arrange)\nFee:      $595.00 (+HST)\nAll projects are included in the price.\n  \nFun with our new shorts!\nThis camp is also offered:\nJuly 13 – 17\, 2026\nAugust 10 – 14\, 2026\nShare this:
URL:https://www.sewcreativetoronto.com/event/summer-sewing-camp-august-24-28-2026/
LOCATION:Sew Creative Toronto\, 50 Millsborough Crescent\, Etobicoke\, Ontario\, M9C 5E8\, Canada
CATEGORIES:Summer Camps
ATTACH;FMTTYPE=image/jpeg:https://www.sewcreativetoronto.com/wp-content/uploads/2026/01/sock-monkeys-Sew-Creative-summer-camp-scaled-e1767395572145.jpg
ORGANIZER;CN="Priska Mitchell":MAILTO:priska@sewcreativetoronto.com
END:VEVENT
END:VCALENDAR