BEGIN:VCALENDAR
VERSION:2.0
PRODID:-//Sew Creative Toronto - ECPv6.15.20//NONSGML v1.0//EN
CALSCALE:GREGORIAN
METHOD:PUBLISH
X-ORIGINAL-URL:https://www.sewcreativetoronto.com
X-WR-CALDESC:Events for Sew Creative Toronto
REFRESH-INTERVAL;VALUE=DURATION:PT1H
X-Robots-Tag:noindex
X-PUBLISHED-TTL:PT1H
BEGIN:VTIMEZONE
TZID:America/New_York
BEGIN:DAYLIGHT
TZOFFSETFROM:-0500
TZOFFSETTO:-0400
TZNAME:EDT
DTSTART:20190310T070000
END:DAYLIGHT
BEGIN:STANDARD
TZOFFSETFROM:-0400
TZOFFSETTO:-0500
TZNAME:EST
DTSTART:20191103T060000
END:STANDARD
BEGIN:DAYLIGHT
TZOFFSETFROM:-0500
TZOFFSETTO:-0400
TZNAME:EDT
DTSTART:20200308T070000
END:DAYLIGHT
BEGIN:STANDARD
TZOFFSETFROM:-0400
TZOFFSETTO:-0500
TZNAME:EST
DTSTART:20201101T060000
END:STANDARD
BEGIN:DAYLIGHT
TZOFFSETFROM:-0500
TZOFFSETTO:-0400
TZNAME:EDT
DTSTART:20210314T070000
END:DAYLIGHT
BEGIN:STANDARD
TZOFFSETFROM:-0400
TZOFFSETTO:-0500
TZNAME:EST
DTSTART:20211107T060000
END:STANDARD
BEGIN:DAYLIGHT
TZOFFSETFROM:-0500
TZOFFSETTO:-0400
TZNAME:EDT
DTSTART:20220313T070000
END:DAYLIGHT
BEGIN:STANDARD
TZOFFSETFROM:-0400
TZOFFSETTO:-0500
TZNAME:EST
DTSTART:20221106T060000
END:STANDARD
END:VTIMEZONE
BEGIN:VTIMEZONE
TZID:UTC
BEGIN:STANDARD
TZOFFSETFROM:+0000
TZOFFSETTO:+0000
TZNAME:UTC
DTSTART:20170101T000000
END:STANDARD
END:VTIMEZONE
BEGIN:VEVENT
DTSTART;TZID=America/New_York:20210913T183000
DTEND;TZID=America/New_York:20211129T200000
DTSTAMP:20260423T160723
CREATED:20190212T195418Z
LAST-MODIFIED:20211102T150737Z
UID:2218-1631557800-1638216000@www.sewcreativetoronto.com
SUMMARY:Fall Term Sewing Classes Mondays 6.30 - 8.00 pm
DESCRIPTION:After reserving your spot please fill out the online contact form:\nFILL OUT THE CONTACT FORM \n  \n\nFall Term Sewing Classes Mondays 6.30 – 8.00pm\nCOVID UPDATE: Fall term classes are in-person. If a lockdown is mandated\, classes will be delivered online. \nAges: 7 – 16 years\nEvery Monday\, September 13 – November 29\, 2021 at 6.30 – 8.00pm (no class October 11)\nDecember 17\, 2021 at 6.30 – 8.00 pm will be offered if a make up class needs to be arranged.\nFee for Fall Term 2021 (11 weeks): $341.00\n  \nClasses are in-person with max. 5 students per class. Should a lockdown be mandated during the term\, classes will be delivered online. Wearing of a facemask is mandatory. The sewing room is ventilated by keeping windows and doors open weather permitting. During the colder time of the year we use a HEPA air purifier. Our premises are thoroughly sanitized after each class.  For our full COVID guidelines click here.\nClasses can be joined throughout the term\, if there are spots still available\, fees will be pro-rated.\nShare this:
URL:https://www.sewcreativetoronto.com/event/fall-term-classes-monday-6-30-8-00-pm-7-16-years/
LOCATION:Sew Creative Toronto\, 50 Millsborough Crescent\, Etobicoke\, Ontario\, M9C 5E8\, Canada
CATEGORIES:Sewing Classes
ATTACH;FMTTYPE=image/jpeg:https://www.sewcreativetoronto.com/wp-content/uploads/2018/03/AdobeStock_55225499-learn-to-sew3.jpg
ORGANIZER;CN="Priska Mitchell":MAILTO:priska@sewcreativetoronto.com
END:VEVENT
BEGIN:VEVENT
DTSTART;TZID=America/New_York:20210107T183000
DTEND;TZID=America/New_York:20210311T200000
DTSTAMP:20260423T160723
CREATED:20180701T130054Z
LAST-MODIFIED:20210126T170834Z
UID:1188-1610044200-1615492800@www.sewcreativetoronto.com
SUMMARY:Winter Term Classes Thursdays  6:30 - 8:00 pm ( 7 - 16 years)
DESCRIPTION:Sewing Classes\nAges: 7 – 16 years\nEvery Thursday  Jan. 7 – March 11\, 2021 (6.30 – 8.00 pm)\nMarch 18\, 2021 at 6.30 – 8.00 pm will be offered if a make up class needs to be arranged.\nFee for Winter Term 2020 (10 wks): $290.00\n  \nClasses are in-person with max. 5 students per class. Should a lockdown be mandated\, classes will be delivered online.\nWearing of a facemask is mandatory. Our premises are thoroughly sanitized after each class.  For our full COVID guidelines click here.\n  \nClasses can be joined throughout the term\, if there are spots still available\, fees will be pro-rated.\n  \n\nAfter reserving your spot please fill out the online contact form:\nFILL OUT THE CONTACT FORM \n  \nShare this:
URL:https://www.sewcreativetoronto.com/event/winter-term-classes-thursdays-630-800-pm/
LOCATION:Sew Creative Toronto\, 50 Millsborough Crescent\, Etobicoke\, Ontario\, M9C 5E8\, Canada
CATEGORIES:Sewing Classes
ATTACH;FMTTYPE=image/jpeg:https://www.sewcreativetoronto.com/wp-content/uploads/2018/03/AdobeStock_55225499-learn-to-sew3.jpg
ORGANIZER;CN="Priska Mitchell":MAILTO:priska@sewcreativetoronto.com
END:VEVENT
BEGIN:VEVENT
DTSTART;TZID=America/New_York:20210105T163000
DTEND;TZID=America/New_York:20210309T180000
DTSTAMP:20260423T160723
CREATED:20180701T130018Z
LAST-MODIFIED:20201212T013802Z
UID:1190-1609864200-1615312800@www.sewcreativetoronto.com
SUMMARY:Winter Term Classes Tuesdays 4:30 - 6:00 pm ( 7 - 16 years)
DESCRIPTION:Sewing Classes\nAges: 7 – 16 years\nEvery Tuesday Jan. 5 – March 9\, 2021 (4.30-6.00 pm)\nMarch 16\, 2021 at 4.30 – 6.00 pm will be offered if a make up class needs to be arranged.\nFee for Winter Term 2020 (10 wks): $290.00\n  \nClasses are in-person with max. 5 students per class. Should a lockdown be mandated\, classes will be delivered online.\nWearing of a facemask is mandatory. Our premises are thoroughly sanitized after each class.  For our full COVID guidelines click here.\n  \nClasses can be joined throughout the term\, if there are spots still available\, fees will be pro-rated.\n  \n\nAfter reserving your spot please fill out the online contact form:\nFILL OUT THE CONTACT FORM \nShare this:
URL:https://www.sewcreativetoronto.com/event/winter-term-classes-tuesdays-430-600-pm/
LOCATION:Sew Creative Toronto\, 50 Millsborough Crescent\, Etobicoke\, Ontario\, M9C 5E8\, Canada
CATEGORIES:Sewing Classes
ATTACH;FMTTYPE=image/jpeg:https://www.sewcreativetoronto.com/wp-content/uploads/2018/03/AdobeStock_55225499-learn-to-sew3.jpg
ORGANIZER;CN="Priska Mitchell":MAILTO:priska@sewcreativetoronto.com
END:VEVENT
BEGIN:VEVENT
DTSTART;TZID=America/New_York:20210104T183000
DTEND;TZID=America/New_York:20210308T200000
DTSTAMP:20260423T160723
CREATED:20180701T130055Z
LAST-MODIFIED:20210114T204519Z
UID:1195-1609785000-1615233600@www.sewcreativetoronto.com
SUMMARY:Winter Term Classes Mondays 6:30 - 8:00 pm
DESCRIPTION:Sewing Classes\nAges: 7 – 16 years\nEvery Monday Jan. 4 – March 8\, 2021 (6.30 – 8.00 pm)\nMarch 15\, 2021 at 6.30 – 8.00 pm will be offered if a make up class needs to be arranged.\nFee for Winter Term 2020 (10 wks): $290.00\n  \nClasses are in-person with max. 5 students per class. Should a lockdown be mandated\, classes will be delivered online.\nWearing of a facemask is mandatory. Our premises are thoroughly sanitized after each class.  For our full COVID guidelines click here.\n  \nClasses can be joined throughout the term\, if there are spots still available\, fees will be pro-rated.\n  \n\nAfter reserving your spot please fill out the online contact form:\nFILL OUT THE CONTACT FORM \n  \n  \nShare this:
URL:https://www.sewcreativetoronto.com/event/winter-term-classes-mondays-630-800-pm/
LOCATION:Sew Creative Toronto\, 50 Millsborough Crescent\, Etobicoke\, Ontario\, M9C 5E8\, Canada
CATEGORIES:Sewing Classes
ATTACH;FMTTYPE=image/jpeg:https://www.sewcreativetoronto.com/wp-content/uploads/2018/03/AdobeStock_55225499-learn-to-sew3.jpg
ORGANIZER;CN="Priska Mitchell":MAILTO:priska@sewcreativetoronto.com
END:VEVENT
BEGIN:VEVENT
DTSTART;TZID=America/New_York:20200917T183000
DTEND;TZID=America/New_York:20201210T200000
DTSTAMP:20260423T160723
CREATED:20190212T194845Z
LAST-MODIFIED:20200915T230124Z
UID:2214-1600367400-1607630400@www.sewcreativetoronto.com
SUMMARY:Fall Term Classes Thursdays:  6.30-8.00 pm (7 - 16 years)
DESCRIPTION:CLASS FULL\nAges: 7 – 16 years\nEvery Thursday  Sept. 17 – Dec. 10\, 2020 (6.30 – 8.00 pm)\nDec. 17\, 2020 at 6.30 – 8.00 pm will be offered if a make up class needs to be arranged.\nFee for Fall Term 2020 (13 wks): $377.00\nClass can be joined throughout the term\, if there are spots still available\, fees will be pro-rated.\n  \n\nAfter reserving your spot please fill out the online registration form\nFILL OUT THE REGISTRATION FORM \nShare this:
URL:https://www.sewcreativetoronto.com/event/fall-term-classes-thursdays-6-30-8-00-pm-7-16-years/
LOCATION:Sew Creative Toronto\, 50 Millsborough Crescent\, Etobicoke\, Ontario\, M9C 5E8\, Canada
CATEGORIES:Sewing Classes
ATTACH;FMTTYPE=image/jpeg:https://www.sewcreativetoronto.com/wp-content/uploads/2018/03/AdobeStock_55225499-learn-to-sew3.jpg
ORGANIZER;CN="Priska Mitchell":MAILTO:priska@sewcreativetoronto.com
END:VEVENT
BEGIN:VEVENT
DTSTART;TZID=America/New_York:20200916T183000
DTEND;TZID=America/New_York:20201209T200000
DTSTAMP:20260423T160723
CREATED:20190212T194140Z
LAST-MODIFIED:20200801T173119Z
UID:2211-1600281000-1607544000@www.sewcreativetoronto.com
SUMMARY:Fall Term Classes Wednesdays:  6.30-8.00 pm (teens 12+ years)
DESCRIPTION:Ages: teens 12+ years\nEvery Wednesday Sept. 16 – Dec. 9\, 2020 (6.30 – 8.00 pm)\nDec. 16\, 2020 at 6.30 – 8.00 pm will be offered if a make up class needs to be arranged.\nFee for Fall Term 2020 (13 wks): $377.00\n\nClasses can be joined throughout the term\, if there are spots still available\, fees will be pro-rated.\n  \n\nAfter reserving your spot please fill out the online registration form\nFILL OUT THE REGISTRATION FORM \nShare this:
URL:https://www.sewcreativetoronto.com/event/fall-term-classes-wednesdays-6-30-8-00-pm-teens-12-years/
LOCATION:Sew Creative Toronto\, 50 Millsborough Crescent\, Etobicoke\, Ontario\, M9C 5E8\, Canada
CATEGORIES:Sewing Classes
ATTACH;FMTTYPE=image/jpeg:https://www.sewcreativetoronto.com/wp-content/uploads/2018/03/AdobeStock_55225499-learn-to-sew3.jpg
ORGANIZER;CN="Priska Mitchell":MAILTO:priska@sewcreativetoronto.com
END:VEVENT
BEGIN:VEVENT
DTSTART;TZID=America/New_York:20200915T163000
DTEND;TZID=America/New_York:20201208T180000
DTSTAMP:20260423T160723
CREATED:20190212T181611Z
LAST-MODIFIED:20200915T230320Z
UID:2202-1600187400-1607450400@www.sewcreativetoronto.com
SUMMARY:Fall Term Classes Tuesdays:  4:30 - 6:00 pm ( 7 - 16 years)
DESCRIPTION:CLASS FULL\nAges: 7 – 16 years\nEvery Tuesday  Sept. 15 – Dec. 8\, 2020 (4.30 – 6.00 pm)\nDec. 15\, 2020 at 4.30 – 6.00 pm will be offered if a make up class needs to be arranged.\nFee for Fall Term 2020 (13 wks): $377.00\nClasses can be joined throughout the term\, if there are spots still available\, fees will be pro-rated.\n  \n\nAfter reserving your spot please fill out the online registration form\nFILL OUT THE REGISTRATION FORM \nShare this:
URL:https://www.sewcreativetoronto.com/event/fall-term-classes-tuesdays-430-600-pm-7-16-years/
LOCATION:Sew Creative Toronto\, 50 Millsborough Crescent\, Etobicoke\, Ontario\, M9C 5E8\, Canada
CATEGORIES:Sewing Classes
ATTACH;FMTTYPE=image/jpeg:https://www.sewcreativetoronto.com/wp-content/uploads/2018/03/AdobeStock_55225499-learn-to-sew3.jpg
ORGANIZER;CN="Priska Mitchell":MAILTO:priska@sewcreativetoronto.com
END:VEVENT
BEGIN:VEVENT
DTSTART;TZID=America/New_York:20200326T163000
DTEND;TZID=America/New_York:20200601T163000
DTSTAMP:20260423T160723
CREATED:20180701T130015Z
LAST-MODIFIED:20200606T003644Z
UID:1177-1585240200-1591029000@www.sewcreativetoronto.com
SUMMARY:Spring Term Classes Thursdays 4:30 - 6:00 pm ( 7 - 16 years)
DESCRIPTION:Sewing Classes\nAges: 7 – 16 years\nEvery Thursday  (4.30-6.00 pm)\nFee for Spring Term (13 wks): $351.00\nClasses can be joined throughout the term\, if there are spots still available\, fees will be pro-rated.\n  \nSpring Term Schedule:\nMarch 26\nApril 2\, 9\, 16\, 23\, 30\nMay 7\, 14\, 21\, 28\nJune 4\, 11\, 18\nAfter reserving your spot please fill out the online contact form:\nFILL OUT THE CONTACT FORM \nShare this:
URL:https://www.sewcreativetoronto.com/event/spring-term-classes-thursdays-430-600-pm/
LOCATION:Sew Creative Toronto\, 50 Millsborough Crescent\, Etobicoke\, Ontario\, M9C 5E8\, Canada
CATEGORIES:Sewing Classes
ATTACH;FMTTYPE=image/jpeg:https://www.sewcreativetoronto.com/wp-content/uploads/2018/03/AdobeStock_55225499-learn-to-sew3.jpg
ORGANIZER;CN="Priska Mitchell":MAILTO:priska@sewcreativetoronto.com
END:VEVENT
BEGIN:VEVENT
DTSTART;TZID=UTC:20180111T163000
DTEND;TZID=UTC:20180308T180000
DTSTAMP:20260423T160723
CREATED:20180207T100147Z
LAST-MODIFIED:20180309T163237Z
UID:758-1515688200-1520532000@www.sewcreativetoronto.com
SUMMARY:Sewing Classes Thursdays:  4:30 - 6:00 pm - ( 7 - 16 years)
DESCRIPTION:Sewing Classes:\nAges: 7 – 16 years\nEvery Thursday  (4:30 – 6:00 pm)\nFee for Winter Term (11wks): $264.00 + HST ($298.32)\nClasses can be joined throughout the term\, if there are spots still available\, fees will be pro-rated\nWinter Term Schedule:\nJanuary: 11\,18\,25\nFebruary: 1\,8\,15\,22\nMarch : 1\,8\,22\,29\n\n After reserving your spot please fill out the online registration form\nFILL OUT THE REGISTRATION FORM \n  \nShare this:
URL:https://www.sewcreativetoronto.com/event/sewing-classes-every-thursday-430-600-pm-7-16-years/
LOCATION:Sew Creative Toronto\, 50 Millsborough Crescent\, Etobicoke\, Ontario\, M9C 5E8\, Canada
CATEGORIES:Sewing Classes
ATTACH;FMTTYPE=image/jpeg:https://www.sewcreativetoronto.com/wp-content/uploads/2018/01/Backpacks.jpg
ORGANIZER;CN="Priska Mitchell":MAILTO:priska@sewcreativetoronto.com
END:VEVENT
BEGIN:VEVENT
DTSTART;TZID=UTC:20180110T183000
DTEND;TZID=UTC:20180308T200000
DTSTAMP:20260423T160723
CREATED:20180205T013159Z
LAST-MODIFIED:20180321T162944Z
UID:317-1515609000-1520539200@www.sewcreativetoronto.com
SUMMARY:Sewing Classes Wednesdays:  6:30 - 8:00 pm - ( Teens 12 + years )
DESCRIPTION:Sewing Classes:\nEvery Wednesday:  6:30 – 8:00 pm\nAges: Teens 12 + years\nFee for Winter Term (11wks): $264.00 + HST = ($298.32)\nClasses can be joined throughout the term\, if there are spots still available\, fees will be pro-rated.\nWinter Term Schedule:\nJanuary: 10\,17\,24\,31\nFebruary:  7\,14\,21\,28\nMarch: 7\,21\,28\n\n After reserving your spot please fill out the online registration form\nFILL OUT THE REGISTRATION FORM \n  \nShare this:
URL:https://www.sewcreativetoronto.com/event/sewing-classes-every-wednesday-630-800-pm-teens-12-years/
LOCATION:Sew Creative Toronto\, 50 Millsborough Crescent\, Etobicoke\, Ontario\, M9C 5E8\, Canada
CATEGORIES:Sewing Classes
ATTACH;FMTTYPE=image/jpeg:https://www.sewcreativetoronto.com/wp-content/uploads/2018/01/Backpacks.jpg
ORGANIZER;CN="Priska Mitchell":MAILTO:priska@sewcreativetoronto.com
END:VEVENT
BEGIN:VEVENT
DTSTART;TZID=UTC:20180109T183000
DTEND;TZID=UTC:20180308T200000
DTSTAMP:20260423T160723
CREATED:20180207T095539Z
LAST-MODIFIED:20180309T163410Z
UID:752-1515522600-1520539200@www.sewcreativetoronto.com
SUMMARY:Sewing Classes Tuesdays:  6:30 - 8:00 pm   (7 - 16 years)
DESCRIPTION:Sewing Classes:\nAges: 7 – 16 years\nEvery Tuesday ( 6:30 – 8:00 pm )\nFee for Winter Term (11wks): $264.00 + HST = ($298.32)\nClasses can be joined throughout the term\, if there are spots still available\, fees will be pro-rated.\nWinter Term Schedule:\nJanuary: 9\,16\,23\,30;\nFebruary: 6\,13\,20\,27;\nMarch: 6\,20\,27\n\n\n After reserving your spot please fill out the online registration form\nFILL OUT THE REGISTRATION FORM \n  \nShare this:
URL:https://www.sewcreativetoronto.com/event/sewing-classes-every-tuesday-630-800-pm-7-16-years/
LOCATION:Sew Creative Toronto\, 50 Millsborough Crescent\, Etobicoke\, Ontario\, M9C 5E8\, Canada
CATEGORIES:Sewing Classes
ATTACH;FMTTYPE=image/jpeg:https://www.sewcreativetoronto.com/wp-content/uploads/2018/01/Backpacks.jpg
ORGANIZER;CN="Priska Mitchell":MAILTO:priska@sewcreativetoronto.com
END:VEVENT
BEGIN:VEVENT
DTSTART;TZID=UTC:20180109T163000
DTEND;TZID=UTC:20180308T180000
DTSTAMP:20260423T160723
CREATED:20180205T011130Z
LAST-MODIFIED:20180309T163456Z
UID:306-1515515400-1520532000@www.sewcreativetoronto.com
SUMMARY:Sewing Classes Tuesdays: 4:30 – 6:00 pm (7 – 16 years)
DESCRIPTION:Sewing Classes:\nAges: 7 – 16 years\nEvery Tuesday ( 4:30 – 6:00 pm )\nFee for Winter Term (11wks): $264.00 + HST = ($298.32)\nClasses can be joined throughout the term\, if there are spots still available\, fees will be pro-rated.\nWinter Term Schedule:\nJanuary: 9\,16\,23\,30;\nFebruary: 6\,13\,20\,27;\nMarch: 6\,20\,27\n\n After reserving your spot please fill out the online registration form\nFILL OUT THE REGISTRATION FORM \n  \nShare this:
URL:https://www.sewcreativetoronto.com/event/sewing-classes-every-tuesday-april-3-june-26-2018/
LOCATION:Sew Creative Toronto\, 50 Millsborough Crescent\, Etobicoke\, Ontario\, M9C 5E8\, Canada
CATEGORIES:Sewing Classes
ATTACH;FMTTYPE=image/jpeg:https://www.sewcreativetoronto.com/wp-content/uploads/2018/01/Backpacks.jpg
ORGANIZER;CN="Priska Mitchell":MAILTO:priska@sewcreativetoronto.com
END:VEVENT
END:VCALENDAR