BEGIN:VCALENDAR
VERSION:2.0
PRODID:-//Sew Creative Toronto - ECPv6.15.20//NONSGML v1.0//EN
CALSCALE:GREGORIAN
METHOD:PUBLISH
X-ORIGINAL-URL:https://www.sewcreativetoronto.com
X-WR-CALDESC:Events for Sew Creative Toronto
REFRESH-INTERVAL;VALUE=DURATION:PT1H
X-Robots-Tag:noindex
X-PUBLISHED-TTL:PT1H
BEGIN:VTIMEZONE
TZID:America/Toronto
BEGIN:DAYLIGHT
TZOFFSETFROM:-0500
TZOFFSETTO:-0400
TZNAME:EDT
DTSTART:20250309T070000
END:DAYLIGHT
BEGIN:STANDARD
TZOFFSETFROM:-0400
TZOFFSETTO:-0500
TZNAME:EST
DTSTART:20251102T060000
END:STANDARD
BEGIN:DAYLIGHT
TZOFFSETFROM:-0500
TZOFFSETTO:-0400
TZNAME:EDT
DTSTART:20260308T070000
END:DAYLIGHT
BEGIN:STANDARD
TZOFFSETFROM:-0400
TZOFFSETTO:-0500
TZNAME:EST
DTSTART:20261101T060000
END:STANDARD
BEGIN:DAYLIGHT
TZOFFSETFROM:-0500
TZOFFSETTO:-0400
TZNAME:EDT
DTSTART:20270314T070000
END:DAYLIGHT
BEGIN:STANDARD
TZOFFSETFROM:-0400
TZOFFSETTO:-0500
TZNAME:EST
DTSTART:20271107T060000
END:STANDARD
END:VTIMEZONE
BEGIN:VEVENT
DTSTART;TZID=America/Toronto:20260323T183000
DTEND;TZID=America/Toronto:20260615T200000
DTSTAMP:20260423T044310
CREATED:20260205T171930Z
LAST-MODIFIED:20260205T180944Z
UID:7039-1774290600-1781553600@www.sewcreativetoronto.com
SUMMARY:Spring Term Sewing Classes Mondays 6.30 - 8.00pm
DESCRIPTION:FILL OUT THE CONTACT FORM \n  \n  \nSpring Term Sewing Classes Mondays 6.30 – 8.00pm\nAges: 7 – 16 years.\nClass size: max. 6 students\nDates: March 23 – June 15\, 2026\nFee for spring term (11 weeks\, no class on Easter Monday April 6\, and Victoria Day May 18): $407.00 (+HST)\nThere is no refund for missed classes. If there is a spot available in another class\, we will offer it to you for a make up class.\nShare this:
URL:https://www.sewcreativetoronto.com/event/7039/
LOCATION:Sew Creative Toronto\, 50 Millsborough Crescent\, Etobicoke\, Ontario\, M9C 5E8\, Canada
CATEGORIES:Sewing Classes
ATTACH;FMTTYPE=image/jpeg:https://www.sewcreativetoronto.com/wp-content/uploads/2020/11/AdobeStock_55225499-learn-to-sew2-scaled.jpg
ORGANIZER;CN="Priska Mitchell":MAILTO:priska@sewcreativetoronto.com
END:VEVENT
BEGIN:VEVENT
DTSTART;TZID=America/Toronto:20260324T160000
DTEND;TZID=America/Toronto:20260616T173000
DTSTAMP:20260423T044310
CREATED:20260205T172916Z
LAST-MODIFIED:20260207T224316Z
UID:7044-1774368000-1781631000@www.sewcreativetoronto.com
SUMMARY:Spring Term Sewing Classes Tuesdays 4.00 - 5.30pm
DESCRIPTION:FILL OUT THE CONTACT FORM \nCLASS FULL – If you would like to be added to a waiting list\, please contact us.\n  \nSpring Term Sewing Classes Tuesdays 4.00 – 5.30pm\nAges: 7 – 16 years.\nClass size: max. 6 students\nDates: March 24 – June 16\, 2026\nFee for spring term (13 weeks): $481.00 (+HST)\nThere is no refund for missed classes. If there is a spot available in another class\, we will offer it to you for a make up class.\nShare this:
URL:https://www.sewcreativetoronto.com/event/spring-term-sewing-classes-tuesdays-4-00-5-30pm-3/
LOCATION:Sew Creative Toronto\, 50 Millsborough Crescent\, Etobicoke\, Ontario\, M9C 5E8\, Canada
CATEGORIES:Sewing Classes
ATTACH;FMTTYPE=image/jpeg:https://www.sewcreativetoronto.com/wp-content/uploads/2020/11/AdobeStock_55225499-learn-to-sew2-scaled.jpg
ORGANIZER;CN="Priska Mitchell":MAILTO:priska@sewcreativetoronto.com
END:VEVENT
BEGIN:VEVENT
DTSTART;TZID=America/Toronto:20260325T183000
DTEND;TZID=America/Toronto:20260617T200000
DTSTAMP:20260423T044310
CREATED:20260205T173743Z
LAST-MODIFIED:20260205T173743Z
UID:7046-1774463400-1781726400@www.sewcreativetoronto.com
SUMMARY:Spring Term Sewing Classes Wednesdays 6.30 - 8.00pm
DESCRIPTION:FILL OUT THE CONTACT FORM \n  \n  \nSpring Term Sewing Classes Wednesdays 6.30 – 8.00pm\nAges: 7 – 16 years.\nClass size: max. 6 students\nDates: March 25 – June 17\, 2026\nFee for spring term (13 weeks): $481.00 (+HST)\nThere is no refund for missed classes. If there is a spot available in another class\, we will offer it to you for a make up class.\nShare this:
URL:https://www.sewcreativetoronto.com/event/spring-term-sewing-classes-wednesdays-6-30-8-00pm-4/
LOCATION:Sew Creative Toronto\, 50 Millsborough Crescent\, Etobicoke\, Ontario\, M9C 5E8\, Canada
CATEGORIES:Sewing Classes
ATTACH;FMTTYPE=image/jpeg:https://www.sewcreativetoronto.com/wp-content/uploads/2020/11/AdobeStock_55225499-learn-to-sew2-scaled.jpg
ORGANIZER;CN="Priska Mitchell":MAILTO:priska@sewcreativetoronto.com
END:VEVENT
BEGIN:VEVENT
DTSTART;TZID=America/Toronto:20260326T160000
DTEND;TZID=America/Toronto:20260618T173000
DTSTAMP:20260423T044310
CREATED:20260205T174413Z
LAST-MODIFIED:20260205T174413Z
UID:7048-1774540800-1781803800@www.sewcreativetoronto.com
SUMMARY:Spring Term Sewing Classes Thursdays 4.00 - 5.30pm
DESCRIPTION:FILL OUT THE CONTACT FORM \n  \n  \nSpring Term Sewing Classes Thursdays 4.00 – 5.30pm\nAges: 7 – 16 years.\nClass size: max. 6 students\nDates: March 26 – June 18\, 2026\nFee for spring term (13 weeks): $481.00 (+HST)\nThere is no refund for missed classes. If there is a spot available in another class\, we will offer it to you for a make up class.\nShare this:
URL:https://www.sewcreativetoronto.com/event/spring-term-sewing-classes-thursdays-4-00-5-30pm-2/
LOCATION:Sew Creative Toronto\, 50 Millsborough Crescent\, Etobicoke\, Ontario\, M9C 5E8\, Canada
CATEGORIES:Sewing Classes
ATTACH;FMTTYPE=image/jpeg:https://www.sewcreativetoronto.com/wp-content/uploads/2020/11/AdobeStock_55225499-learn-to-sew2-scaled.jpg
ORGANIZER;CN="Priska Mitchell":MAILTO:priska@sewcreativetoronto.com
END:VEVENT
BEGIN:VEVENT
DTSTART;TZID=America/Toronto:20260326T183000
DTEND;TZID=America/Toronto:20260618T200000
DTSTAMP:20260423T044310
CREATED:20260205T180217Z
LAST-MODIFIED:20260207T224220Z
UID:7050-1774549800-1781812800@www.sewcreativetoronto.com
SUMMARY:Spring Term Sewing Classes Thursdays 6.30 - 8.00pm
DESCRIPTION:FILL OUT THE CONTACT FORM \n  \nCLASS FULL – If you would like to be added to a waiting list\, please contact us.\nSpring Term Sewing Classes Thursdays 6.30 – 8.00pm\nAges: 7 – 16 years.\nClass size: max. 6 students\nDates: March 26 – June 18\, 2026\nFee for spring term (13 weeks): $481.00 (+HST)\nThere is no refund for missed classes. If there is a spot available in another class\, we will offer it to you for a make up class.\nShare this:
URL:https://www.sewcreativetoronto.com/event/spring-term-sewing-classes-thursdays-6-30-8-00pm-5/
LOCATION:Sew Creative Toronto\, 50 Millsborough Crescent\, Etobicoke\, Ontario\, M9C 5E8\, Canada
CATEGORIES:Sewing Classes
ATTACH;FMTTYPE=image/jpeg:https://www.sewcreativetoronto.com/wp-content/uploads/2020/11/AdobeStock_55225499-learn-to-sew2-scaled.jpg
ORGANIZER;CN="Priska Mitchell":MAILTO:priska@sewcreativetoronto.com
END:VEVENT
END:VCALENDAR