BEGIN:VCALENDAR
VERSION:2.0
PRODID:-//Sew Creative Toronto - ECPv6.15.20//NONSGML v1.0//EN
CALSCALE:GREGORIAN
METHOD:PUBLISH
X-WR-CALNAME:Sew Creative Toronto
X-ORIGINAL-URL:https://www.sewcreativetoronto.com
X-WR-CALDESC:Events for Sew Creative Toronto
REFRESH-INTERVAL;VALUE=DURATION:PT1H
X-Robots-Tag:noindex
X-PUBLISHED-TTL:PT1H
BEGIN:VTIMEZONE
TZID:America/Toronto
BEGIN:DAYLIGHT
TZOFFSETFROM:-0500
TZOFFSETTO:-0400
TZNAME:EDT
DTSTART:20180311T070000
END:DAYLIGHT
BEGIN:STANDARD
TZOFFSETFROM:-0400
TZOFFSETTO:-0500
TZNAME:EST
DTSTART:20181104T060000
END:STANDARD
BEGIN:DAYLIGHT
TZOFFSETFROM:-0500
TZOFFSETTO:-0400
TZNAME:EDT
DTSTART:20190310T070000
END:DAYLIGHT
BEGIN:STANDARD
TZOFFSETFROM:-0400
TZOFFSETTO:-0500
TZNAME:EST
DTSTART:20191103T060000
END:STANDARD
BEGIN:DAYLIGHT
TZOFFSETFROM:-0500
TZOFFSETTO:-0400
TZNAME:EDT
DTSTART:20200308T070000
END:DAYLIGHT
BEGIN:STANDARD
TZOFFSETFROM:-0400
TZOFFSETTO:-0500
TZNAME:EST
DTSTART:20201101T060000
END:STANDARD
END:VTIMEZONE
BEGIN:VTIMEZONE
TZID:America/New_York
BEGIN:DAYLIGHT
TZOFFSETFROM:-0500
TZOFFSETTO:-0400
TZNAME:EDT
DTSTART:20170312T070000
END:DAYLIGHT
BEGIN:STANDARD
TZOFFSETFROM:-0400
TZOFFSETTO:-0500
TZNAME:EST
DTSTART:20171105T060000
END:STANDARD
BEGIN:DAYLIGHT
TZOFFSETFROM:-0500
TZOFFSETTO:-0400
TZNAME:EDT
DTSTART:20180311T070000
END:DAYLIGHT
BEGIN:STANDARD
TZOFFSETFROM:-0400
TZOFFSETTO:-0500
TZNAME:EST
DTSTART:20181104T060000
END:STANDARD
BEGIN:DAYLIGHT
TZOFFSETFROM:-0500
TZOFFSETTO:-0400
TZNAME:EDT
DTSTART:20190310T070000
END:DAYLIGHT
BEGIN:STANDARD
TZOFFSETFROM:-0400
TZOFFSETTO:-0500
TZNAME:EST
DTSTART:20191103T060000
END:STANDARD
BEGIN:DAYLIGHT
TZOFFSETFROM:-0500
TZOFFSETTO:-0400
TZNAME:EDT
DTSTART:20200308T070000
END:DAYLIGHT
BEGIN:STANDARD
TZOFFSETFROM:-0400
TZOFFSETTO:-0500
TZNAME:EST
DTSTART:20201101T060000
END:STANDARD
END:VTIMEZONE
BEGIN:VTIMEZONE
TZID:UTC
BEGIN:STANDARD
TZOFFSETFROM:+0000
TZOFFSETTO:+0000
TZNAME:UTC
DTSTART:20170101T000000
END:STANDARD
END:VTIMEZONE
BEGIN:VEVENT
DTSTART;TZID=America/Toronto:20190208T100000
DTEND;TZID=America/Toronto:20190208T160000
DTSTAMP:20260423T133506
CREATED:20190111T194957Z
LAST-MODIFIED:20190208T143704Z
UID:1593-1549620000-1549641600@www.sewcreativetoronto.com
SUMMARY:PA Day (Peel District)\, Feb. 8\, 2019
DESCRIPTION:Toy Shop!\nSew the sweetest teddy bear\, treat your doll to a new outfit or sew a cuddly monster or floppy rice frog.\nFebruary 8\, 2019\n10.00am-4.00pm\, extended care available\nCost: $70.00 + HST = ($79.10)\, project included\n\n\nAfter reserving your spot please fill out the online registration form\nFILL OUT THE REGISTRATION FORM  \n  \nShare this:
URL:https://www.sewcreativetoronto.com/event/pa-day-peel-district-feb-8-2019/
LOCATION:Sew Creative Toronto\, 50 Millsborough Crescent\, Etobicoke\, Ontario\, M9C 5E8\, Canada
CATEGORIES:PA Day
ATTACH;FMTTYPE=image/jpeg:https://www.sewcreativetoronto.com/wp-content/uploads/2018/01/Sewing-room-4.jpg
ORGANIZER;CN="Priska Mitchell":MAILTO:priska@sewcreativetoronto.com
END:VEVENT
BEGIN:VEVENT
DTSTART;TZID=America/New_York:20190121T100000
DTEND;TZID=America/New_York:20190121T160000
DTSTAMP:20260423T133506
CREATED:20190111T193354Z
LAST-MODIFIED:20190111T193354Z
UID:1588-1548064800-1548086400@www.sewcreativetoronto.com
SUMMARY:PA Day (Peel District) Jan. 21\, 2019
DESCRIPTION:In this class we will sew a bean bag chair\, similar to the one in the sewing studio (every student’s favourite spot to sit when taking out stitches that went wrong!) This year’s fabrics are pink plaid\, blue and black with appliqués in fuzzy white fabric or colour of choice.\n  \nJanuary 21\, 2019\n10.00am-4.00pm\, extended care available\nCost: $70.00 + HST ($79.10)\, project included (except bean bag filler)\n  \n  \nAfter reserving your spot please fill out the online registration form\nFILL OUT THE REGISTRATION FORM  \n  \nShare this:
URL:https://www.sewcreativetoronto.com/event/pa-day-peel-district-jan-21-2019/
LOCATION:Sew Creative Toronto\, 50 Millsborough Crescent\, Etobicoke\, Ontario\, M9C 5E8\, Canada
CATEGORIES:PA Day
ATTACH;FMTTYPE=image/png:https://www.sewcreativetoronto.com/wp-content/uploads/2019/01/Bean-bags.png
ORGANIZER;CN="Priska Mitchell":MAILTO:priska@sewcreativetoronto.com
END:VEVENT
BEGIN:VEVENT
DTSTART;TZID=America/Toronto:20190118T100000
DTEND;TZID=America/Toronto:20190118T160000
DTSTAMP:20260423T133506
CREATED:20190111T193044Z
LAST-MODIFIED:20190111T193044Z
UID:1584-1547805600-1547827200@www.sewcreativetoronto.com
SUMMARY:PA Day January 18\, 2019
DESCRIPTION:In this class we will sew a bean bag chair\, similar to the one in the sewing studio (every student’s favourite spot to sit when taking out stitches that went wrong!) This year’s fabrics are pink plaid\, blue and black with appliqués in fuzzy white fabric or colour of choice.\n  \nJanuary 18\, 2019\n10.00am-4.00pm\, extended care available\nCost: $70.00 + HST ($79.10)\, project included (except bean bag filler)\n  \n  \nAfter reserving your spot please fill out the online registration form\nFILL OUT THE REGISTRATION FORM  \n  \nShare this:
URL:https://www.sewcreativetoronto.com/event/pa-day-january-18-2019/
LOCATION:Sew Creative Toronto\, 50 Millsborough Crescent\, Etobicoke\, Ontario\, M9C 5E8\, Canada
CATEGORIES:PA Day
ATTACH;FMTTYPE=image/png:https://www.sewcreativetoronto.com/wp-content/uploads/2019/01/Bean-bags.png
ORGANIZER;CN="Priska Mitchell":MAILTO:priska@sewcreativetoronto.com
END:VEVENT
BEGIN:VEVENT
DTSTART;TZID=America/New_York:20181207T100000
DTEND;TZID=America/New_York:20181207T160000
DTSTAMP:20260423T133506
CREATED:20181012T152107Z
LAST-MODIFIED:20181118T012135Z
UID:1362-1544176800-1544198400@www.sewcreativetoronto.com
SUMMARY:PA Day December 7\, 2018
DESCRIPTION:Get Ready For Christmas\nThis is our last PA Day of the year! \nWe have lots of projects to choose from: sew a Christmas Stocking\, a stuffed Christmas Tree (approx. 30 cm tall)\, a Christmas Tree Skirt (a quilting project to cover the base of a Christmas tree) or sew a variety of Christmas tree decorations!\nDate: December 7\, 2018\nTime: 10.00am-4.00pm\, extended care available\nCost: $70.00 + HST ($79.10)\, project included\n  \n  \nAfter reserving your spot please fill out the online registration form\nFILL OUT THE REGISTRATION FORM  \n  \n  \n  \n  \nShare this:
URL:https://www.sewcreativetoronto.com/event/pa-day-december-7-2018/
LOCATION:Sew Creative Toronto\, 50 Millsborough Crescent\, Etobicoke\, Ontario\, M9C 5E8\, Canada
CATEGORIES:PA Day
ATTACH;FMTTYPE=image/jpeg:https://www.sewcreativetoronto.com/wp-content/uploads/2018/10/Christmas-stocking.jpg
ORGANIZER;CN="Priska Mitchell":MAILTO:priska@sewcreativetoronto.com
END:VEVENT
BEGIN:VEVENT
DTSTART;TZID=America/New_York:20181116T100000
DTEND;TZID=America/New_York:20181116T160000
DTSTAMP:20260423T133506
CREATED:20181012T204507Z
LAST-MODIFIED:20181012T204507Z
UID:1397-1542362400-1542384000@www.sewcreativetoronto.com
SUMMARY:PA Day November 16\, 2018
DESCRIPTION:Advent Calendars\nAdvent Calendars are a delightful way of enjoying the month of December in anticipation of Christmas: each day is celebrated with a little treat\, the perfect countdown!\n\nThe 24 pockets can be filled with small chocolates\, boxes of raisins\, pictures or little messages – anything that makes the countdown joyful! The calendar can be reused year after year.\n\nYou can design your own calendar by choosing a background fabric\, adding the pockets\, choosing a ribbon for the edging and of course adding lost of decorations! Finish it by writing the numbers with festive fabric paint and… be patient to wait until December 1!\n  \nDate: November 16\, 2018\nTime: 10.00am-4.00pm\, extended care available\nCost: $70.00 + HST = ($79.10)\, project included (except treats!)\n\n\nAfter reserving your spot please fill out the online registration form\nFILL OUT THE REGISTRATION FORM  \n  \nShare this:
URL:https://www.sewcreativetoronto.com/event/pa-day-november-16-2018/
LOCATION:Sew Creative Toronto\, 50 Millsborough Crescent\, Etobicoke\, Ontario\, M9C 5E8\, Canada
CATEGORIES:PA Day
ATTACH;FMTTYPE=image/jpeg:https://www.sewcreativetoronto.com/wp-content/uploads/2018/10/Advent-calendar-e1539380484197.jpg
ORGANIZER;CN="Priska Mitchell":MAILTO:priska@sewcreativetoronto.com
END:VEVENT
BEGIN:VEVENT
DTSTART;TZID=America/New_York:20181005T100000
DTEND;TZID=America/New_York:20181005T160000
DTSTAMP:20260423T133506
CREATED:20180920T160046Z
LAST-MODIFIED:20180920T160046Z
UID:1328-1538733600-1538755200@www.sewcreativetoronto.com
SUMMARY:PA Day October 5\, 2018
DESCRIPTION:Fall Tree Pillow or Table Runner\nCelebrate fall and its beautiful colours by displaying this fall tree pillow in your home\, or design a table runner with the same tree design as a centre piece for your fall table.\nThe design can be simplified for beginners\, therefore this PA day class is suitable for students with sewing experience as well as first time sewers.\nDate: October 5\, 2018\nTime: 10.00am-4.00pm\, extended care available\nCost: $70.00 + HST = ($79.10)\n\nShare this:
URL:https://www.sewcreativetoronto.com/event/pa-day-october-5-2018/
LOCATION:Sew Creative Toronto\, 50 Millsborough Crescent\, Etobicoke\, Ontario\, M9C 5E8\, Canada
CATEGORIES:PA Day
ATTACH;FMTTYPE=image/jpeg:https://www.sewcreativetoronto.com/wp-content/uploads/2018/09/Fall-tree-pillow-Sew-Creative-Toronto-e1537462756849.jpg
ORGANIZER;CN="Priska Mitchell":MAILTO:priska@sewcreativetoronto.com
END:VEVENT
BEGIN:VEVENT
DTSTART;TZID=UTC:20180611T100000
DTEND;TZID=UTC:20180611T160000
DTSTAMP:20260423T133506
CREATED:20180225T041335Z
LAST-MODIFIED:20220119T155211Z
UID:1032-1528711200-1528732800@www.sewcreativetoronto.com
SUMMARY:PA Day June 11\, 2018 (Peel District)
DESCRIPTION:After reserving your spot please fill out the online contact form\nFILL OUT THE CONTACT FORM  \nCheeky Pencil Cases\nCome and sew a unique pencil case! You can choose between a monster pencil case or a pencil-shaped pencil case. You can make your own combination of fabrics and create your one-of-a kind pencil case!\n\nDate: June 11\, 2018 (Peel district)\nTime: 10.00am-4.00pm\, extended care available\nCost: $70.00 + HST ($79.10)\n\nAfter reserving your spot please fill out the online registration form\nFILL OUT THE REGISTRATION FORM  \n  \nShare this:
URL:https://www.sewcreativetoronto.com/event/pa-day-june-11-2018-peel-district/
LOCATION:Sew Creative Toronto\, 50 Millsborough Crescent\, Etobicoke\, Ontario\, M9C 5E8\, Canada
CATEGORIES:PA Day
ATTACH;FMTTYPE=image/png:https://www.sewcreativetoronto.com/wp-content/uploads/2018/02/Pencil-cases.png
ORGANIZER;CN="Priska Mitchell":MAILTO:priska@sewcreativetoronto.com
END:VEVENT
BEGIN:VEVENT
DTSTART;TZID=UTC:20180608T100000
DTEND;TZID=UTC:20180608T160000
DTSTAMP:20260423T133506
CREATED:20180225T035853Z
LAST-MODIFIED:20180530T202244Z
UID:1024-1528452000-1528473600@www.sewcreativetoronto.com
SUMMARY:PA day June 8\, 2018 (Toronto)
DESCRIPTION:Cheeky Pencil Cases\nCome and sew a unique pencil case! You can choose between a monster pencil case or a pencil-shaped pencil case. You can make your own combination of fabrics and create your one-of-a kind pencil case!\n  \n  \nDate: June 8\, 2018 (Toronto)\nTime: 10.00am-4.00pm\, extended care available\nCost: $70.00 + HST = ($79.10)\n\n\nAfter reserving your spot please fill out the online registration form\nFILL OUT THE REGISTRATION FORM  \n  \n  \nShare this:
URL:https://www.sewcreativetoronto.com/event/pa-day-june-8-2018-toronto/
LOCATION:Sew Creative Toronto\, 50 Millsborough Crescent\, Etobicoke\, Ontario\, M9C 5E8\, Canada
CATEGORIES:PA Day
ATTACH;FMTTYPE=image/png:https://www.sewcreativetoronto.com/wp-content/uploads/2018/02/Pencil-cases.png
ORGANIZER;CN="Priska Mitchell":MAILTO:priska@sewcreativetoronto.com
END:VEVENT
BEGIN:VEVENT
DTSTART;TZID=UTC:20180216T100000
DTEND;TZID=UTC:20180216T160000
DTSTAMP:20260423T133506
CREATED:20180207T032522Z
LAST-MODIFIED:20180211T060407Z
UID:618-1518775200-1518796800@www.sewcreativetoronto.com
SUMMARY:PA day Feb. 16\, 2018 (Toronto)
DESCRIPTION:Cheeky Pencil Cases\nCome and sew a unique pencil case! You can choose between a monster pencil case or a pencil-shaped pencil case. You can make your own combination of fabrics and create your one-of-a kind pencil case!\n\nDates: Feb. 16\, 2018 (Toronto)\nTime: 10.00am-4.00pm\, extended care available\nCost: $70.00 + HST = ($79.10)\n\n\nAfter reserving your spot please fill out the online registration form\nFILL OUT THE REGISTRATION FORM  \n  \nShare this:
URL:https://www.sewcreativetoronto.com/event/pa-day-feb-16-2018-toronto/
LOCATION:Ontario
CATEGORIES:PA Day
ATTACH;FMTTYPE=image/png:https://www.sewcreativetoronto.com/wp-content/uploads/2018/02/Pencil-cases.png
END:VEVENT
BEGIN:VEVENT
DTSTART;TZID=UTC:20180209T100000
DTEND;TZID=UTC:20180209T160000
DTSTAMP:20260423T133506
CREATED:20180202T032407Z
LAST-MODIFIED:20180211T070529Z
UID:255-1518170400-1518192000@www.sewcreativetoronto.com
SUMMARY:PA Day February 9\, 2018 Peel District
DESCRIPTION:Cheeky Pencil Cases\nCome and sew a unique pencil case! You can choose between a monster pencil case or a pencil-shaped pencil case. You can make your own combination of fabrics and create your one-of-a kind pencil case!\n\nDates: Feb. 9\, 2018 (Peel district)\nTime: 10.00am-4.00pm\, extended care available\nCost: $70.00 + HST ($79.10)\n\nAfter reserving your spot please fill out the online registration form\nFILL OUT THE REGISTRATION FORM  \n  \nShare this:
URL:https://www.sewcreativetoronto.com/event/pa-day-february-9-2018/
LOCATION:Sew Creative Toronto\, 50 Millsborough Crescent\, Etobicoke\, Ontario\, M9C 5E8\, Canada
CATEGORIES:PA Day
ATTACH;FMTTYPE=image/png:https://www.sewcreativetoronto.com/wp-content/uploads/2018/02/Pencil-cases.png
ORGANIZER;CN="Priska Mitchell":MAILTO:priska@sewcreativetoronto.com
END:VEVENT
END:VCALENDAR