BEGIN:VCALENDAR
VERSION:2.0
PRODID:-//Sew Creative Toronto - ECPv6.15.20//NONSGML v1.0//EN
CALSCALE:GREGORIAN
METHOD:PUBLISH
X-WR-CALNAME:Sew Creative Toronto
X-ORIGINAL-URL:https://www.sewcreativetoronto.com
X-WR-CALDESC:Events for Sew Creative Toronto
REFRESH-INTERVAL;VALUE=DURATION:PT1H
X-Robots-Tag:noindex
X-PUBLISHED-TTL:PT1H
BEGIN:VTIMEZONE
TZID:America/Toronto
BEGIN:DAYLIGHT
TZOFFSETFROM:-0500
TZOFFSETTO:-0400
TZNAME:EDT
DTSTART:20250309T070000
END:DAYLIGHT
BEGIN:STANDARD
TZOFFSETFROM:-0400
TZOFFSETTO:-0500
TZNAME:EST
DTSTART:20251102T060000
END:STANDARD
BEGIN:DAYLIGHT
TZOFFSETFROM:-0500
TZOFFSETTO:-0400
TZNAME:EDT
DTSTART:20260308T070000
END:DAYLIGHT
BEGIN:STANDARD
TZOFFSETFROM:-0400
TZOFFSETTO:-0500
TZNAME:EST
DTSTART:20261101T060000
END:STANDARD
BEGIN:DAYLIGHT
TZOFFSETFROM:-0500
TZOFFSETTO:-0400
TZNAME:EDT
DTSTART:20270314T070000
END:DAYLIGHT
BEGIN:STANDARD
TZOFFSETFROM:-0400
TZOFFSETTO:-0500
TZNAME:EST
DTSTART:20271107T060000
END:STANDARD
END:VTIMEZONE
BEGIN:VEVENT
DTSTART;TZID=America/Toronto:20260605T100000
DTEND;TZID=America/Toronto:20260605T160000
DTSTAMP:20260423T061723
CREATED:20260408T195626Z
LAST-MODIFIED:20260408T202751Z
UID:7083-1780653600-1780675200@www.sewcreativetoronto.com
SUMMARY:PA Day Class June 5\, 2026
DESCRIPTION:After reserving your spot please fill out the online contact form\nFILL OUT THE CONTACT FORM  \n\nDesign and Sew a Skirt\n\nIn this class we will learn how to design an easy skirt and then sew it! \nSkirts are very versatile: they can be made of one fabric only\, or of a combination of fabrics. They can be short or long. They can be made of a single panel or they can be tiered. For inspiration\, look at the various skirts our students have made – then bring your own ideas and see what you can create with the fabrics available. (Fabrics may vary from the ones pictured).\nThis class is suitable for beginners and for those with sewing experience.\nDate: June 5\, 2026\nTime: 10.00am-4.00pm\, extended care available\nCost: $119.00 (+HST)\, project included\nAges 7-16\nMax. 6 students in class\nShare this:
URL:https://www.sewcreativetoronto.com/event/pa-day-class-june-5-2026/
LOCATION:Sew Creative Toronto\, 50 Millsborough Crescent\, Etobicoke\, Ontario\, M9C 5E8\, Canada
CATEGORIES:PA Day
ATTACH;FMTTYPE=image/jpeg:https://www.sewcreativetoronto.com/wp-content/uploads/2026/04/Skirt-summer-camp-Sew-Creative-scaled.jpg
ORGANIZER;CN="Priska Mitchell":MAILTO:priska@sewcreativetoronto.com
END:VEVENT
END:VCALENDAR