BEGIN:VCALENDAR
VERSION:2.0
PRODID:-//Sew Creative Toronto - ECPv6.15.20//NONSGML v1.0//EN
CALSCALE:GREGORIAN
METHOD:PUBLISH
X-WR-CALNAME:Sew Creative Toronto
X-ORIGINAL-URL:https://www.sewcreativetoronto.com
X-WR-CALDESC:Events for Sew Creative Toronto
REFRESH-INTERVAL;VALUE=DURATION:PT1H
X-Robots-Tag:noindex
X-PUBLISHED-TTL:PT1H
BEGIN:VTIMEZONE
TZID:America/Toronto
BEGIN:DAYLIGHT
TZOFFSETFROM:-0500
TZOFFSETTO:-0400
TZNAME:EDT
DTSTART:20180311T070000
END:DAYLIGHT
BEGIN:STANDARD
TZOFFSETFROM:-0400
TZOFFSETTO:-0500
TZNAME:EST
DTSTART:20181104T060000
END:STANDARD
BEGIN:DAYLIGHT
TZOFFSETFROM:-0500
TZOFFSETTO:-0400
TZNAME:EDT
DTSTART:20190310T070000
END:DAYLIGHT
BEGIN:STANDARD
TZOFFSETFROM:-0400
TZOFFSETTO:-0500
TZNAME:EST
DTSTART:20191103T060000
END:STANDARD
BEGIN:DAYLIGHT
TZOFFSETFROM:-0500
TZOFFSETTO:-0400
TZNAME:EDT
DTSTART:20200308T070000
END:DAYLIGHT
BEGIN:STANDARD
TZOFFSETFROM:-0400
TZOFFSETTO:-0500
TZNAME:EST
DTSTART:20201101T060000
END:STANDARD
BEGIN:DAYLIGHT
TZOFFSETFROM:-0500
TZOFFSETTO:-0400
TZNAME:EDT
DTSTART:20210314T070000
END:DAYLIGHT
BEGIN:STANDARD
TZOFFSETFROM:-0400
TZOFFSETTO:-0500
TZNAME:EST
DTSTART:20211107T060000
END:STANDARD
BEGIN:DAYLIGHT
TZOFFSETFROM:-0500
TZOFFSETTO:-0400
TZNAME:EDT
DTSTART:20220313T070000
END:DAYLIGHT
BEGIN:STANDARD
TZOFFSETFROM:-0400
TZOFFSETTO:-0500
TZNAME:EST
DTSTART:20221106T060000
END:STANDARD
BEGIN:DAYLIGHT
TZOFFSETFROM:-0500
TZOFFSETTO:-0400
TZNAME:EDT
DTSTART:20230312T070000
END:DAYLIGHT
BEGIN:STANDARD
TZOFFSETFROM:-0400
TZOFFSETTO:-0500
TZNAME:EST
DTSTART:20231105T060000
END:STANDARD
BEGIN:DAYLIGHT
TZOFFSETFROM:-0500
TZOFFSETTO:-0400
TZNAME:EDT
DTSTART:20240310T070000
END:DAYLIGHT
BEGIN:STANDARD
TZOFFSETFROM:-0400
TZOFFSETTO:-0500
TZNAME:EST
DTSTART:20241103T060000
END:STANDARD
BEGIN:DAYLIGHT
TZOFFSETFROM:-0500
TZOFFSETTO:-0400
TZNAME:EDT
DTSTART:20250309T070000
END:DAYLIGHT
BEGIN:STANDARD
TZOFFSETFROM:-0400
TZOFFSETTO:-0500
TZNAME:EST
DTSTART:20251102T060000
END:STANDARD
BEGIN:DAYLIGHT
TZOFFSETFROM:-0500
TZOFFSETTO:-0400
TZNAME:EDT
DTSTART:20260308T070000
END:DAYLIGHT
BEGIN:STANDARD
TZOFFSETFROM:-0400
TZOFFSETTO:-0500
TZNAME:EST
DTSTART:20261101T060000
END:STANDARD
END:VTIMEZONE
BEGIN:VTIMEZONE
TZID:America/New_York
BEGIN:DAYLIGHT
TZOFFSETFROM:-0500
TZOFFSETTO:-0400
TZNAME:EDT
DTSTART:20190310T070000
END:DAYLIGHT
BEGIN:STANDARD
TZOFFSETFROM:-0400
TZOFFSETTO:-0500
TZNAME:EST
DTSTART:20191103T060000
END:STANDARD
BEGIN:DAYLIGHT
TZOFFSETFROM:-0500
TZOFFSETTO:-0400
TZNAME:EDT
DTSTART:20200308T070000
END:DAYLIGHT
BEGIN:STANDARD
TZOFFSETFROM:-0400
TZOFFSETTO:-0500
TZNAME:EST
DTSTART:20201101T060000
END:STANDARD
BEGIN:DAYLIGHT
TZOFFSETFROM:-0500
TZOFFSETTO:-0400
TZNAME:EDT
DTSTART:20210314T070000
END:DAYLIGHT
BEGIN:STANDARD
TZOFFSETFROM:-0400
TZOFFSETTO:-0500
TZNAME:EST
DTSTART:20211107T060000
END:STANDARD
END:VTIMEZONE
BEGIN:VTIMEZONE
TZID:UTC
BEGIN:STANDARD
TZOFFSETFROM:+0000
TZOFFSETTO:+0000
TZNAME:UTC
DTSTART:20170101T000000
END:STANDARD
END:VTIMEZONE
BEGIN:VEVENT
DTSTART;TZID=America/Toronto:20250312T100000
DTEND;TZID=America/Toronto:20250313T160000
DTSTAMP:20260423T082613
CREATED:20250101T230040Z
LAST-MODIFIED:20250103T004616Z
UID:6250-1741773600-1741881600@www.sewcreativetoronto.com
SUMMARY:2-Day March Break Camp 2025
DESCRIPTION:After reserving your spot please fill out the online registration form:\nFILL OUT THE REGISTRATION FORM  \n  \nPicnic Blanket\n\nIn this year’s 2-Day March break camp we will sew picnic blankets.\nThis is an easy quilting project that is suitable both for beginners and for sewers with experience:\nFirst time sewers will start with learning how to operate a sewing machine by sewing on paper. We will then move on to designing and sewing the picnic blanket. Choice of fabrics will change the look of the blanket\, so be creative! \nExperienced sewers can add more details to the squares/blocks of their blankets.\n \nDates:  Wednesday March 12-13\, 2025\nTime:     10.00 am – 4.00 pm\, extended care available (please contact us to arrange)\nFee:       $220.00 (+HST)\nProject included in the price\nAges 7-16\nMaximum 6 children per camp\nShare this:
URL:https://www.sewcreativetoronto.com/event/2-day-march-break-camp-2025/
LOCATION:Sew Creative Toronto\, 50 Millsborough Crescent\, Etobicoke\, Ontario\, M9C 5E8\, Canada
CATEGORIES:March Break camp
ATTACH;FMTTYPE=image/jpeg:https://www.sewcreativetoronto.com/wp-content/uploads/2021/02/Quilt-green-summer-camp-2020-scaled-e1735771432167.jpg
ORGANIZER;CN="Priska Mitchell":MAILTO:priska@sewcreativetoronto.com
END:VEVENT
BEGIN:VEVENT
DTSTART;TZID=America/Toronto:20240311T100000
DTEND;TZID=America/Toronto:20240312T160000
DTSTAMP:20260423T082613
CREATED:20231228T205918Z
LAST-MODIFIED:20231228T232337Z
UID:5668-1710151200-1710259200@www.sewcreativetoronto.com
SUMMARY:2-Day Camp March 11-12\, 2024
DESCRIPTION:After reserving your spot please fill out the online registration form:\nFILL OUT THE REGISTRATION FORM  \n  \nFrog and Bee Pillow\nOur 2-Day March break camps are suitable both for beginners and for sewers with experience. These adorable pillows are a fun addition to a bedroom or can also make a unique gift for someone special!\nFirst time sewers will start with learning how to operate a sewing machine by sewing on paper. We will then move on to sewing the pillow of their choice. Sewers with experience will probably have time to additionally sew a rice frog in this camp!\nDates:  Monday March 11 – Tuesday March 12\, 2024\nTime:     10.00 am – 4.00 pm\, extended care available (please contact us to arrange)\nFee:       $206.00 (+HST)\nProject(s) included in the price\nAges 7-16\nMaximum 6 children per camp\nThis camp is also available March 13-14\, 2024\nShare this:
URL:https://www.sewcreativetoronto.com/event/2-day-camp-march-11-12-2024/
LOCATION:Sew Creative Toronto\, 50 Millsborough Crescent\, Etobicoke\, Ontario\, M9C 5E8\, Canada
CATEGORIES:March Break camp
ATTACH;FMTTYPE=image/jpeg:https://www.sewcreativetoronto.com/wp-content/uploads/2023/12/Frog-and-Bee-pillow-Sew-Creative-1-scaled-e1705947624636.jpg
ORGANIZER;CN="Priska Mitchell":MAILTO:priska@sewcreativetoronto.com
END:VEVENT
BEGIN:VEVENT
DTSTART;TZID=America/Toronto:20230316T100000
DTEND;TZID=America/Toronto:20230317T150000
DTSTAMP:20260423T082613
CREATED:20221021T165734Z
LAST-MODIFIED:20230113T022310Z
UID:5136-1678960800-1679065200@www.sewcreativetoronto.com
SUMMARY:2-Day Eco-Sewing Camp March 16-17\, 2023
DESCRIPTION:After reserving your spot please fill out the online registration form\nFILL OUT THE REGISTRATION FORM  \nOur 2-day sewing camps during March Break 2023 are based on a sustainability theme:\nBeginners will learn how to sew an easy reusable tote bag\, while students with sewing experience will design and sew a quilted reusable tote bag.\nWe then move on to learning how to extend the lifespan of your clothes by learning how to hem/shorten a pair of pants and how to make a fun (and good looking!) patch to cover up a hole in a garment. Campers are encouraged to bring a pair of pants that needs hemming or an item that needs a hole repaired.\nBeginners are welcome!\nAges: 7+ years\nDate: March 16-17\, 2023\nTime: 10.00am-3.00pm\, extended care available\nCost: $184.00 (+HST)\, project included\nBook a sibling and receive a 5% sibling discount for the second child!\nThis camp is also available March 14-15\, 2023\nShare this:
URL:https://www.sewcreativetoronto.com/event/2-day-eco-sewing-camp-march-16-17-2023/
LOCATION:Sew Creative Toronto\, 50 Millsborough Crescent\, Etobicoke\, Ontario\, M9C 5E8\, Canada
CATEGORIES:March Break camp
ATTACH;FMTTYPE=image/jpeg:https://www.sewcreativetoronto.com/wp-content/uploads/2022/10/Reusable-bags-Sew-Creative-1-scaled-e1665865900514.jpg
ORGANIZER;CN="Priska Mitchell":MAILTO:priska@sewcreativetoronto.com
END:VEVENT
BEGIN:VEVENT
DTSTART;TZID=America/Toronto:20230314T100000
DTEND;TZID=America/Toronto:20230315T150000
DTSTAMP:20260423T082613
CREATED:20221021T163400Z
LAST-MODIFIED:20230223T161522Z
UID:5128-1678788000-1678892400@www.sewcreativetoronto.com
SUMMARY:2-Day Eco-Sewing Camp March 14-15\, 2023
DESCRIPTION:After reserving your spot please fill out the online registration form\nFILL OUT THE REGISTRATION FORM  \nOur 2-day sewing camps during March Break 2023 are based on a sustainability theme:\nBeginners will learn how to sew an easy reusable tote bag\, while students with sewing experience will design and sew a quilted reusable tote bag.\nWe then move on to learning how to extend the lifespan of your clothes by learning how to hem/shorten a pair of pants and how to make a fun (and good looking!) patch to cover up a hole in a garment. Campers are encouraged to bring a pair of pants that needs hemming or an item that needs a hole repaired.\nBeginners are welcome!\nAges: 7+ years\nDate: March 14-15\, 2023\nTime: 10.00am-3.00pm\, extended care available\nCost: $184.00 (+HST)\, project included\nBook a sibling and receive a 5% sibling discount for the second child!\nThis camp is also available March 16-17\, 2023\nShare this:
URL:https://www.sewcreativetoronto.com/event/2-day-eco-sewing-camp-march-14-15-2023/
LOCATION:Sew Creative Toronto\, 50 Millsborough Crescent\, Etobicoke\, Ontario\, M9C 5E8\, Canada
CATEGORIES:March Break camp
ATTACH;FMTTYPE=image/jpeg:https://www.sewcreativetoronto.com/wp-content/uploads/2022/10/Reusable-bags-Sew-Creative-1-scaled-e1665865900514.jpg
ORGANIZER;CN="Priska Mitchell":MAILTO:priska@sewcreativetoronto.com
END:VEVENT
BEGIN:VEVENT
DTSTART;TZID=America/Toronto:20220314T100000
DTEND;TZID=America/Toronto:20220315T150000
DTSTAMP:20260423T082613
CREATED:20220120T013253Z
LAST-MODIFIED:20220202T014728Z
UID:4390-1647252000-1647356400@www.sewcreativetoronto.com
SUMMARY:2-Day Camp March 14 - 15\, 2022
DESCRIPTION:CAMP FULL\nAfter reserving your spot please fill out the online registration form:\nFILL OUT THE REGISTRATION FORM  \n  \nTeddy Bears\nThese teddy bears are the easiest teddy bear pattern that I know and are a great beginner project even for first time sewers! They are standing about 40cm tall and can easily be fitted out with vests\, skirts\, scarves and other clothing. Lots of fun and room for creativity!\n\n\n\nFor the measures we take to keep everyone as safe as possible during COVID\, please read our registration policy.\n \n\nDate:  Monday March 14 – Tuesday March 15\, 2022\nTime:     10.00 am – 3.00 pm\, extended care available (please contact us to arrange)\nFee:       $190.00\nProject included in the price.\nMaximum 5 children per camp. If the 5 person indoor gathering limit remains during March Break\, there will be max. 4 children.\nShare this:
URL:https://www.sewcreativetoronto.com/event/2-day-camp-march-14-15-2022/
LOCATION:Sew Creative Toronto\, 50 Millsborough Crescent\, Etobicoke\, Ontario\, M9C 5E8\, Canada
CATEGORIES:March Break camp
ATTACH;FMTTYPE=image/jpeg:https://www.sewcreativetoronto.com/wp-content/uploads/2022/01/teddies2-e1642689291312.jpg
ORGANIZER;CN="Priska Mitchell":MAILTO:priska@sewcreativetoronto.com
END:VEVENT
BEGIN:VEVENT
DTSTART;TZID=America/Toronto:20210415T100000
DTEND;TZID=America/Toronto:20210417T150000
DTSTAMP:20260423T082613
CREATED:20210312T182924Z
LAST-MODIFIED:20210402T161202Z
UID:3772-1618480800-1618671600@www.sewcreativetoronto.com
SUMMARY:March (April) Break Camp for Intermediate Level
DESCRIPTION:Event cancelled due to lockdown.\nThis 3- Day Camp is suitable for those who have some experience in sewing.\nWe will sew beautiful home décor and/or fun pillow pets.\n \n  \nDates:    April 15 – 17\, 2021\nTime:     10.00am – 3.00pm\, extended care available\nFee:       $270.00\, all projects included\nShare this:
URL:https://www.sewcreativetoronto.com/event/march-april-break-camp-for-intermediate-level/
LOCATION:Ontario
CATEGORIES:March Break camp
ATTACH;FMTTYPE=image/jpeg:https://www.sewcreativetoronto.com/wp-content/uploads/2020/03/Spring-wreath-Sew-Creative-scaled-e1615571555913.jpg
ORGANIZER;CN="Priska Mitchell":MAILTO:priska@sewcreativetoronto.com
END:VEVENT
BEGIN:VEVENT
DTSTART;TZID=America/Toronto:20210412T100000
DTEND;TZID=America/Toronto:20210414T150000
DTSTAMP:20260423T082613
CREATED:20210312T181635Z
LAST-MODIFIED:20210402T161124Z
UID:3761-1618221600-1618412400@www.sewcreativetoronto.com
SUMMARY:March (April) Break Camp for Beginners
DESCRIPTION:Event cancelled due to lockdown.\nThis 3- Day Camp is suitable for those who are new to sewing or who have just started to sew.\nWe will learn how to operate a sewing machine and sew fun projects using basic stitches.\n  \nDates:    April 12 – 14\, 2021\nTime:     10.00am – 3.00pm\, extended care available\nFee:       $270.00 all projects included\n  \nShare this:
URL:https://www.sewcreativetoronto.com/event/march-april-break-camp-for-beginners/
LOCATION:Sew Creative Toronto\, 50 Millsborough Crescent\, Etobicoke\, Ontario\, M9C 5E8\, Canada
CATEGORIES:March Break camp
ATTACH;FMTTYPE=image/jpeg:https://www.sewcreativetoronto.com/wp-content/uploads/2021/03/Chincilla-juggling-animal-1-1-e1615571613160.jpg
ORGANIZER;CN="Priska Mitchell":MAILTO:priska@sewcreativetoronto.com
END:VEVENT
BEGIN:VEVENT
DTSTART;TZID=America/New_York:20200319T100000
DTEND;TZID=America/New_York:20200320T160000
DTSTAMP:20260423T082613
CREATED:20200109T192226Z
LAST-MODIFIED:20200311T201855Z
UID:2596-1584612000-1584720000@www.sewcreativetoronto.com
SUMMARY:2-Day March Break Camp
DESCRIPTION:In this camp you can choose one or more projects from a large choice of options: Sewing a dragon sock puppet\, a case for your ear buds\, phone or tablet\, designing and sewing a shoulder bag\, or you can choose one of our student favourites such as a bean bag\, a pillow pet or pyjamas! This camp is suitable for both beginners and students with sewing experience.\nMarch 19-20\, 2020\n10.00 am – 4.00 pm\nExtended care available\nFee: $158.00\nEARLY BIRD RATE (until January 31\, 2020): $148.00\nAll projects are included in the price (excluding bean bag filler).\nBook a sibling and enjoy a 10% discount for the second child!\nMaximum 6 children per camp.\n  \nAfter reserving your spot please fill out the online registration form\nFILL OUT THE REGISTRATION FORM  \n  \n\n  \n  \nShare this:
URL:https://www.sewcreativetoronto.com/event/2-day-march-break-camp-2/
LOCATION:Sew Creative Toronto\, 50 Millsborough Crescent\, Etobicoke\, Ontario\, M9C 5E8\, Canada
CATEGORIES:March Break camp
ATTACH;FMTTYPE=image/jpeg:https://www.sewcreativetoronto.com/wp-content/uploads/2020/01/Dragon-2.jpg
ORGANIZER;CN="Priska Mitchell":MAILTO:priska@sewcreativetoronto.com
END:VEVENT
BEGIN:VEVENT
DTSTART;TZID=America/Toronto:20190312T100000
DTEND;TZID=America/Toronto:20190313T160000
DTSTAMP:20260423T082613
CREATED:20190111T190019Z
LAST-MODIFIED:20190111T191408Z
UID:1567-1552384800-1552492800@www.sewcreativetoronto.com
SUMMARY:2-Day March Break Camp
DESCRIPTION:There are\, as always during our camps\, a lot of projects to choose from! 2-day camps are the ideal length of time to sew a pillow pet or a bean bag chair.  There are other options such as pyjamas\, home decor\, stuffed animals or doll’s clothes.\n  \nMarch 12-13\, 2019\n10.00 am – 4.00 pm\nExtended care available\nFee: $140.00 (+HST)\nEARLY BIRD RATE (until January 31\, 2019): $130.00 (+HST)\nAll projects are included in the price (except bean bag filler)\nBook a sibling and enjoy a 10% discount for the second child!\nMaximum 6 children per camp.\n  \nAfter reserving your spot please fill out the online registration form\nFILL OUT THE REGISTRATION FORM  \n  \nShare this:
URL:https://www.sewcreativetoronto.com/event/2-day-march-break-camp/
LOCATION:Sew Creative Toronto\, 50 Millsborough Crescent\, Etobicoke\, Ontario\, M9C 5E8\, Canada
CATEGORIES:March Break camp
ORGANIZER;CN="Priska Mitchell":MAILTO:priska@sewcreativetoronto.com
END:VEVENT
BEGIN:VEVENT
DTSTART;TZID=UTC:20180312T100000
DTEND;TZID=UTC:20180316T100000
DTSTAMP:20260423T082613
CREATED:20180131T102147Z
LAST-MODIFIED:20180306T180652Z
UID:101-1520848800-1521194400@www.sewcreativetoronto.com
SUMMARY:March Break Camp
DESCRIPTION:Learn how to use a sewing machine and have fun being creative!\nIn this camp you will sew several projects from a large choice of options. It is suitable for both beginners and students with sewing experience.\nYou choose the projects you would like to sew within your skills range. You will have lots of fun designing\, cutting\, sewing and embellishing a variety of projects from cute teddies to easy quilts and lavender filled pillows!\nStudents with some sewing experience can choose to sew a T-shirt\, using their creativity to design their shirt with one or more colours or combine fabric and lace.\nMarch 12-16\, 2018\n10.00 am – 4.00 pm\nExtended care available\nFee: $350.00 (+HST)\nAll projects are included in the price.\nBook a sibling and enjoy a 10% discount for the second child!\n  \n\nAfter reserving your spot please fill out the online registration form\nFILL OUT THE REGISTRATION FORM  \n  \n  \nShare this:
URL:https://www.sewcreativetoronto.com/event/pd-day/
LOCATION:Sew Creative Toronto\, 50 Millsborough Crescent\, Etobicoke\, Ontario\, M9C 5E8\, Canada
CATEGORIES:March Break camp
ATTACH;FMTTYPE=image/jpeg:https://www.sewcreativetoronto.com/wp-content/uploads/2018/02/two-t-shirts1-closer-up.jpg
ORGANIZER;CN="Priska Mitchell":MAILTO:priska@sewcreativetoronto.com
END:VEVENT
END:VCALENDAR